BEGIN:VCALENDAR
VERSION:2.0
PRODID:-//Ville de Vauvert - ECPv5.14.2.1//NONSGML v1.0//EN
CALSCALE:GREGORIAN
METHOD:PUBLISH
X-WR-CALNAME:Ville de Vauvert
X-ORIGINAL-URL:https://www.vauvert.com
X-WR-CALDESC:évènements pour Ville de Vauvert
BEGIN:VTIMEZONE
TZID:Europe/Paris
BEGIN:DAYLIGHT
TZOFFSETFROM:+0100
TZOFFSETTO:+0200
TZNAME:CEST
DTSTART:20190331T010000
END:DAYLIGHT
BEGIN:STANDARD
TZOFFSETFROM:+0200
TZOFFSETTO:+0100
TZNAME:CET
DTSTART:20191027T010000
END:STANDARD
END:VTIMEZONE
BEGIN:VEVENT
DTSTART;TZID=Europe/Paris:20191025T190000
DTEND;TZID=Europe/Paris:20191026T233000
DTSTAMP:20260419T205848
CREATED:20190903T131554Z
LAST-MODIFIED:20190903T132034Z
UID:1637-1572030000-1572132600@www.vauvert.com
SUMMARY:Week-end cinéma
DESCRIPTION:19h Week-end cinéma\, médiathèque
URL:https://www.vauvert.com/agenda/week-end-cinema/
LOCATION:Médiathèque Simone Veil\, 2 Place des Halles\, Vauvert\, Gard\, 30600\, France
END:VEVENT
END:VCALENDAR