BEGIN:VCALENDAR
VERSION:2.0
PRODID:-//Ville de Vauvert - ECPv5.14.2.1//NONSGML v1.0//EN
CALSCALE:GREGORIAN
METHOD:PUBLISH
X-WR-CALNAME:Ville de Vauvert
X-ORIGINAL-URL:https://www.vauvert.com
X-WR-CALDESC:évènements pour Ville de Vauvert
BEGIN:VTIMEZONE
TZID:Europe/Paris
BEGIN:DAYLIGHT
TZOFFSETFROM:+0100
TZOFFSETTO:+0200
TZNAME:CEST
DTSTART:20190331T010000
END:DAYLIGHT
BEGIN:STANDARD
TZOFFSETFROM:+0200
TZOFFSETTO:+0100
TZNAME:CET
DTSTART:20191027T010000
END:STANDARD
END:VTIMEZONE
BEGIN:VEVENT
DTSTART;TZID=Europe/Paris:20190906T190000
DTEND;TZID=Europe/Paris:20190906T213000
DTSTAMP:20260420T055910
CREATED:20190903T105817Z
LAST-MODIFIED:20190903T105817Z
UID:1572-1567796400-1567805400@www.vauvert.com
SUMMARY:Vernissage Louis Bonfifassi
DESCRIPTION:Vernissage de l’exposition de photos de Louis Bonfifassi
URL:https://www.vauvert.com/agenda/vernissage-louis-bonfifassi/
LOCATION:Port de plaisance Gallician\, 400 Route des Étangs\, Vauvert\, Gard\, 30600\, France
END:VEVENT
END:VCALENDAR