BEGIN:VCALENDAR
VERSION:2.0
PRODID:-//Ville de Vauvert - ECPv5.14.2.1//NONSGML v1.0//EN
CALSCALE:GREGORIAN
METHOD:PUBLISH
X-WR-CALNAME:Ville de Vauvert
X-ORIGINAL-URL:https://www.vauvert.com
X-WR-CALDESC:évènements pour Ville de Vauvert
BEGIN:VTIMEZONE
TZID:Europe/Paris
BEGIN:DAYLIGHT
TZOFFSETFROM:+0100
TZOFFSETTO:+0200
TZNAME:CEST
DTSTART:20200329T010000
END:DAYLIGHT
BEGIN:STANDARD
TZOFFSETFROM:+0200
TZOFFSETTO:+0100
TZNAME:CET
DTSTART:20201025T010000
END:STANDARD
END:VTIMEZONE
BEGIN:VEVENT
DTSTART;TZID=Europe/Paris:20200706T093000
DTEND;TZID=Europe/Paris:20200807T180000
DTSTAMP:20260419T222228
CREATED:20200629T101401Z
LAST-MODIFIED:20200629T101401Z
UID:6128-1594027800-1596823200@www.vauvert.com
SUMMARY:Vacances d'été pour les  jeunes de 11-17 ans
DESCRIPTION:De nombreuses activités sont au programme : jeux\, canoë\, piscine\, poterie\, radio\, sports co\, hip hop\, street work out\, course au trésor\, accrobranche… Découvrez le programme ci-dessous.  \nCliquez ici pour voir le programme en grand.
URL:https://www.vauvert.com/agenda/vacances-dete-pour-les-jeunes-de-11-17-ans/
ATTACH;FMTTYPE=image/jpeg:https://www.vauvert.com/wp-content/uploads/2020/06/affiche-jeunesse-vacances-ete-2020.jpg
END:VEVENT
END:VCALENDAR