BEGIN:VCALENDAR
VERSION:2.0
PRODID:-//Ville de Vauvert - ECPv5.14.2.1//NONSGML v1.0//EN
CALSCALE:GREGORIAN
METHOD:PUBLISH
X-WR-CALNAME:Ville de Vauvert
X-ORIGINAL-URL:https://www.vauvert.com
X-WR-CALDESC:évènements pour Ville de Vauvert
BEGIN:VTIMEZONE
TZID:Europe/Paris
BEGIN:DAYLIGHT
TZOFFSETFROM:+0100
TZOFFSETTO:+0200
TZNAME:CEST
DTSTART:20220327T010000
END:DAYLIGHT
BEGIN:STANDARD
TZOFFSETFROM:+0200
TZOFFSETTO:+0100
TZNAME:CET
DTSTART:20221030T010000
END:STANDARD
END:VTIMEZONE
BEGIN:VEVENT
DTSTART;TZID=Europe/Paris:20220713T210000
DTEND;TZID=Europe/Paris:20220713T223000
DTSTAMP:20260421T173603
CREATED:20220627T093133Z
LAST-MODIFIED:20220706T081518Z
UID:12928-1657746000-1657751400@www.vauvert.com
SUMMARY:4e course de sélection du trophée des Prémices
DESCRIPTION:[vc_row][vc_column][vc_column_text css=”.vc_custom_1657095284832{margin-bottom: 0px !important;}”]La 4e course de sélection du trophée des Prémices aura lieu mercredi 13 juillet à 21h dans les arènes Jean Brunel. \nManades : Nicollin\, Daumas et Pagès. \nCourse de taureaux emboulés\, rasetés par les écoles taurines. \n\nOrganisation : ville de Vauvert.\nRenseignements : service événementiel – 04 66 73 17 35 ou 04 66 73 10 75\nProgramme sous réserve de modifications.\nEntrée gratuite.\nMerci de respecter les protocoles sanitaires en vigueur. \n\n[/vc_column_text][/vc_column][/vc_row]
URL:https://www.vauvert.com/agenda/trophee-des-premices-13-juillet-2022/
LOCATION:Arènes Jean Brunel\, 1 Place Paul Allier\, Vauvert\, Gard\, 30600
ATTACH;FMTTYPE=image/jpeg:https://www.vauvert.com/wp-content/uploads/2022/06/visuel-13juillet2022-trophee-premices-2022-web.jpg
END:VEVENT
END:VCALENDAR