BEGIN:VCALENDAR
VERSION:2.0
PRODID:-//Ville de Vauvert - ECPv5.14.2.1//NONSGML v1.0//EN
CALSCALE:GREGORIAN
METHOD:PUBLISH
X-WR-CALNAME:Ville de Vauvert
X-ORIGINAL-URL:https://www.vauvert.com
X-WR-CALDESC:évènements pour Ville de Vauvert
BEGIN:VTIMEZONE
TZID:Europe/Paris
BEGIN:DAYLIGHT
TZOFFSETFROM:+0100
TZOFFSETTO:+0200
TZNAME:CEST
DTSTART:20190331T010000
END:DAYLIGHT
BEGIN:STANDARD
TZOFFSETFROM:+0200
TZOFFSETTO:+0100
TZNAME:CET
DTSTART:20191027T010000
END:STANDARD
END:VTIMEZONE
BEGIN:VEVENT
DTSTART;TZID=Europe/Paris:20191206T120000
DTEND;TZID=Europe/Paris:20191208T203000
DTSTAMP:20260420T000541
CREATED:20190904T070754Z
LAST-MODIFIED:20191126T152636Z
UID:1665-1575633600-1575837000@www.vauvert.com
SUMMARY:Téléthon
DESCRIPTION:A Vauvert\, les partenaires et des associations de la ville se mobilisent pour proposer des temps festifs et récolter des dons en faveur du Téléthon. \n  \nDès à présent \n\nRécolte de piles usagées aux points suivants :\n\n– association La Compagnie des Turbulettes\, \n– APEL de l’école Notre Dame\, \n– Centre culturel Robert Gourdon (CCRG) \n– hall de la mairie\, \n– direction de l’évènementiel\, \n– écoles de la commune \n1 pile = 1 don = de l’énergie pour le Téléthon \n\nVente de pulls en laine tricotés mains par le 3ème âge et de cartes de vœux réalisés par les enfants\, organisée par l’association La Compagnie des Turbulettes\nSimultané de scrabble avec quête organisé par l’association Vauvert Scrabble. Tél. 06 84 99 97 22\nVente de peluches Téléthon auprès du Centre culturel Robert Gourdon\nLavage de voiture organisé par le Service Vauverdois de Prévention (SVP). Tél. 04 66 38 84 00\n\n  \n ******************************* \nvendredi 6 décembre \n19h ouverture du village Téléthon \nStructure gonflable pour les enfants (sous réserve) \n18h30 à minuit tente du Téléthon\, allées Victor Hugo : vente de boissons chaudes et froides\, plat chaud à déguster sur place ou à emporter \n18h30 à 21h30 Vauvert au Cœur\, Vauvert en Tête\, allées Victor Hugo : vente de soupe populaire\, sur place ou à emporter et vente de confitures \n20h à 1h du matin inter volley club associé au basket club vauverdois : tournoi de volley 4×4 mixte + buvette\, gymnase du collège la Vallée verte \nÀ 12h et à 17h (sortie de l’école) APEL Notre Dame devant l’école Notre Dame : vente de porte-clés et toujours la récolte de piles usagées \n17h30 judo club vauverdois\, salle dojo complexe Robert Gourdon : entraînement en commun avec buvette sur place et vente de crêpes \n18h30 soirée jeux organisé par RIVES\, salle Mistral \n– de 18h30 à 20h apéritif et jeux en famille \n– de 20h à 21h repas partagé \n– de 21h à 23h jeux adultes et famille à partir de 10 ans \nAnimations musicales avec la participation de : \n– Equinox : chansons françaises et internationales \n– DJ Vincent Arbrun \n  \n******************************* \nsamedi 7 décembre  \n10h lancement officiel du Téléthon avec la participation de l’AFM (association française contre les myopathies) \n8h à minuit tente du Téléthon\, allée Victor Hugo : \n– midi : vente boissons chaudes et froides\, paëlla/grillades \n– soir :  vente de boissons chaudes et froides\, grillades \n10h30 à 14h / 18h30 à 21h30 Vauvert au Cœur\, Vauvert en Tête\, allées Victor Hugo : \n– vente de soupe populaire\, sur place ou à emporter \n– vente de confitures\, allées Victor Hugo \n à partir de 9h inscriptions Courir à Vauvert\, place Paul Allier (départ et arrivée arènes Jean Brunel) : \n– 10h départ de la marche ou marche nordique\, 5 km \n– 10h30 départ de la course 5km ou 10 km \n9h à 17h Samuel Vincent\, allée Victor Hugo : stand tenu par les jeunes du SVP avec vente de gâteaux\, crêpes\, café et tombola \n9h à 17h Olympique Ping-Pong Vauverdois\, salle Foucaran (arènes) : initiation au tennis de table pour les plus jeunes. Echanges loisir pour les confirmés. \n10h à 12h Karaté Club Vauverdois\, place Paul Allier : parcours avec cible et obstacle pour les enfants et ados \n9h à 18h Carrefour (Cosadis)\, allées Victor Hugo : vente de chouquettes et bonbons \n9h à 17h Notre Petit Prince Asperger\, allées Victor Hugo : vente de vin chaud et jus d’orange aux épices chaudes\, crêpes\, chocolat chaud \n9h à 17h Amicale des Sapeurs-Pompiers de Vauvert : vente d’objets Sapeurs-pompiers\, allées Victor Hugo \n– jeux de lance\, tours de camion feux de forêt \n– balades aériennes en grande échelle \n14h à 17h association Anciennes de Camargue : exposition sur les allées Victor Hugo et balades dans les rues de Vauvert en voitures anciennes \n13h30 à 18h CLCV Vauvert\, allées Victor Hugo   construction d’une pyramide avec des boîtes de conserve et tombola \n14h à 16h30 : Attelages de Petite Camargue\, rendez-vous aux arènes : promenades en calèches \n9h à 18h R.I.V.E.S\, allées Victor Hugo \n– parentalité : tombola et vente d’objets en laine\, porte-clef… \n– action d’insertion et d’accompagnement : vente de gâteaux \n– ludothèque : mini kermesse (chamboule tout\, pêche à la ligne… pour les enfants) \n14h à 17h service Jeunesse\, complexe sportif Robert Gourdon : tournoi de foot en salle\, réservé aux jeunes de 11 à 16 ans \nà partir de 11h vente de calendriers et sachets de lavande par l’association Pantaï de Camargo sur le marché et ensuite avenue Victor Hugo \nAnimations musicales sur scène \n12h à 18h sonorisation et animation avec DJ’S RV Dorel et Dominique Peyre de Radio Système. Interview et présentation des animations par Radio Système. \nde 14h à 15h démonstration et initiation danse country avec les Friend’s Country \n15h démonstration danse Hip Hop\, Breakdance (10 mn) avec Culture jeunes – RIVES \n15h10 démonstration Freerun (15 mn) \n16h Zumba animée par Sylvie Sokoloff\, CCRG \nEt pour clôturer la journée de samedi : \nspectacle comique cabaret de 19h à 20h30 avec Les Zouaves\, \nsous la tente chauffée du Téléthon \n  \n******************************* \nDimanche 8 décembre 2019 \nà 17h30 \nLoto du Téléthon \nOrganisé par l’association l’Amicale Vauverdoise\, salles Bizet et Mistral \n  \n  \nPour plus de renseignements\, service événementiel au 04 66 73 17 35. \nProgramme sous réserve de modifications. \nTéléthon Vauvert 2019
URL:https://www.vauvert.com/agenda/telethon/
ATTACH;FMTTYPE=image/jpeg:https://www.vauvert.com/wp-content/uploads/2019/09/tract-telethon-vauvert-6au8dec2019-web.jpg
END:VEVENT
END:VCALENDAR