BEGIN:VCALENDAR
VERSION:2.0
PRODID:-//Ville de Vauvert - ECPv5.14.2.1//NONSGML v1.0//EN
CALSCALE:GREGORIAN
METHOD:PUBLISH
X-WR-CALNAME:Ville de Vauvert
X-ORIGINAL-URL:https://www.vauvert.com
X-WR-CALDESC:évènements pour Ville de Vauvert
BEGIN:VTIMEZONE
TZID:Europe/Paris
BEGIN:DAYLIGHT
TZOFFSETFROM:+0100
TZOFFSETTO:+0200
TZNAME:CEST
DTSTART:20200329T010000
END:DAYLIGHT
BEGIN:STANDARD
TZOFFSETFROM:+0200
TZOFFSETTO:+0100
TZNAME:CET
DTSTART:20201025T010000
END:STANDARD
END:VTIMEZONE
BEGIN:VEVENT
DTSTART;TZID=Europe/Paris:20200204T183000
DTEND;TZID=Europe/Paris:20200204T210000
DTSTAMP:20260419T141010
CREATED:20200123T133449Z
LAST-MODIFIED:20200123T133613Z
UID:3359-1580841000-1580850000@www.vauvert.com
SUMMARY:Téléthon-Merci
DESCRIPTION:Mardi 4 février 2020 à 18h30 en mairie\, salle Émile Guigou se tiendra le Téléthon-Merci. \nLa somme récoltée à Vauvert lors du Téléthon 2019 sera remise à l’AFM Téléthon en présence de Corine Roux-Bertolle\, coordinatrice locale et Pascale Loison\, référente AFM Gard. \n \nCliquez sur l’image pour agrandir
URL:https://www.vauvert.com/agenda/telethon-merci-2020/
LOCATION:Salle Emile Guigou\, Hôtel de ville\, Place Libération et 8 Mai 45\, Vauvert\, Gard\, 30600\, France
ATTACH;FMTTYPE=image/jpeg:https://www.vauvert.com/wp-content/uploads/2020/01/invitation-telethon-merci-4fevrier2020.jpg
END:VEVENT
END:VCALENDAR