BEGIN:VCALENDAR
VERSION:2.0
PRODID:-//Ville de Vauvert - ECPv5.14.2.1//NONSGML v1.0//EN
CALSCALE:GREGORIAN
METHOD:PUBLISH
X-WR-CALNAME:Ville de Vauvert
X-ORIGINAL-URL:https://www.vauvert.com
X-WR-CALDESC:évènements pour Ville de Vauvert
BEGIN:VTIMEZONE
TZID:Europe/Paris
BEGIN:DAYLIGHT
TZOFFSETFROM:+0100
TZOFFSETTO:+0200
TZNAME:CEST
DTSTART:20240331T010000
END:DAYLIGHT
BEGIN:STANDARD
TZOFFSETFROM:+0200
TZOFFSETTO:+0100
TZNAME:CET
DTSTART:20241027T010000
END:STANDARD
END:VTIMEZONE
BEGIN:VEVENT
DTSTART;TZID=Europe/Paris:20240430T190000
DTEND;TZID=Europe/Paris:20240430T230000
DTSTAMP:20260420T182916
CREATED:20240425T075744Z
LAST-MODIFIED:20240425T075744Z
UID:23506-1714503600-1714518000@www.vauvert.com
SUMMARY:Soirée prix Hemingway
DESCRIPTION:La direction de la culture de la ville de Vauvert et l’association Les avocats du diable\, vous invitent à une soirée Prix Hemingway.À cette occasion\, nous vous proposons de découvrir en compagnie de nos lecteurs et lectrices\, la Nouvelle Lauréate 2023 “Clémence de Titus” de Sébastien Ambit.\nLa lecture s’étendra aux Nouvelles finalistes “Un grand jour miraculeux” de Raquel Barba Martinez\, “La Mercerie” de Robert Louison et “La vie à porta gayola” d’Alain Mascaro.\nRendez-vous le mardi 30 avril à 19h à l’Espace Culture Jean-Jaurès
URL:https://www.vauvert.com/agenda/soiree-prix-hemingway/
LOCATION:Espace Culture Jean jaurès\, Place du Docteur Arnoux\, Vauvert\, Gard\, 30600
ATTACH;FMTTYPE=image/jpeg:https://www.vauvert.com/wp-content/uploads/2024/04/436511578_746340224362810_2835553544744498092_n.jpg
END:VEVENT
END:VCALENDAR