BEGIN:VCALENDAR
VERSION:2.0
PRODID:-//Ville de Vauvert - ECPv5.14.2.1//NONSGML v1.0//EN
CALSCALE:GREGORIAN
METHOD:PUBLISH
X-WR-CALNAME:Ville de Vauvert
X-ORIGINAL-URL:https://www.vauvert.com
X-WR-CALDESC:évènements pour Ville de Vauvert
BEGIN:VTIMEZONE
TZID:Europe/Paris
BEGIN:DAYLIGHT
TZOFFSETFROM:+0100
TZOFFSETTO:+0200
TZNAME:CEST
DTSTART:20240331T010000
END:DAYLIGHT
BEGIN:STANDARD
TZOFFSETFROM:+0200
TZOFFSETTO:+0100
TZNAME:CET
DTSTART:20241027T010000
END:STANDARD
END:VTIMEZONE
BEGIN:VEVENT
DTSTART;TZID=Europe/Paris:20240301T183000
DTEND;TZID=Europe/Paris:20240301T203000
DTSTAMP:20260422T020215
CREATED:20240220T101806Z
LAST-MODIFIED:20240220T102126Z
UID:21979-1709317800-1709325000@www.vauvert.com
SUMMARY:Soirée de lancement de la saison taurine 2024
DESCRIPTION:Jean Denat\, maire de Vauvert ; Bruno Pascal\, adjoint aux traditions et festivités\, vice-président du conseil départemental du Gard ; \nla commission taurine municipale ; les clubs taurins : L’Abrivado\, Les Amis de la Camargue\, El Campo\, Pena taurine Manzanarès\, Camargua Forza\, et la coordination des clubs taurins de Nîmes et du Gard ; \nvous invitent au lancement de la saison taurine vauverdoise 2024 vendredi 1er mars 2024 à 18h30\, salle Bizet \nen présence de Pantai de Camargo et de l’école de razeteurs de Petite Camargue \n  \n 
URL:https://www.vauvert.com/agenda/soiree-lancement-saison-taurine-2024/
LOCATION:Salle Georges Bizet\, 365-357 Rue Louise Désir\, Vauvert\, Gard\, 30600\, France
ATTACH;FMTTYPE=image/jpeg:https://www.vauvert.com/wp-content/uploads/2024/02/invit-saison-taurine-1mars2024-web.jpg
END:VEVENT
END:VCALENDAR