BEGIN:VCALENDAR
VERSION:2.0
PRODID:-//Ville de Vauvert - ECPv5.14.2.1//NONSGML v1.0//EN
CALSCALE:GREGORIAN
METHOD:PUBLISH
X-WR-CALNAME:Ville de Vauvert
X-ORIGINAL-URL:https://www.vauvert.com
X-WR-CALDESC:évènements pour Ville de Vauvert
BEGIN:VTIMEZONE
TZID:Europe/Paris
BEGIN:DAYLIGHT
TZOFFSETFROM:+0100
TZOFFSETTO:+0200
TZNAME:CEST
DTSTART:20190331T010000
END:DAYLIGHT
BEGIN:STANDARD
TZOFFSETFROM:+0200
TZOFFSETTO:+0100
TZNAME:CET
DTSTART:20191027T010000
END:STANDARD
END:VTIMEZONE
BEGIN:VEVENT
DTSTART;TZID=Europe/Paris:20191007T080000
DTEND;TZID=Europe/Paris:20191011T170000
DTSTAMP:20260420T041532
CREATED:20190903T123450Z
LAST-MODIFIED:20190903T123450Z
UID:1622-1570435200-1570813200@www.vauvert.com
SUMMARY:Semaine Bleue
DESCRIPTION:Semaine Bleue pour nos aînés. Inscriptions au CCAS auprès de Françoise Guillaumet\, 168 rue Montcalm à Vauvert
URL:https://www.vauvert.com/agenda/semaine-bleue/
LOCATION:CCAS\, 168 rue Montcalm\, Vauvert\, Gard\, 30600\, France
ORGANIZER;CN="Centre%20communal%20d%27action%20sociale%20%28CCAS%29":MAILTO:ccas@vauvert.com
END:VEVENT
END:VCALENDAR