BEGIN:VCALENDAR
VERSION:2.0
PRODID:-//Ville de Vauvert - ECPv5.14.2.1//NONSGML v1.0//EN
CALSCALE:GREGORIAN
METHOD:PUBLISH
X-WR-CALNAME:Ville de Vauvert
X-ORIGINAL-URL:https://www.vauvert.com
X-WR-CALDESC:évènements pour Ville de Vauvert
BEGIN:VTIMEZONE
TZID:Europe/Paris
BEGIN:DAYLIGHT
TZOFFSETFROM:+0100
TZOFFSETTO:+0200
TZNAME:CEST
DTSTART:20200329T010000
END:DAYLIGHT
BEGIN:STANDARD
TZOFFSETFROM:+0200
TZOFFSETTO:+0100
TZNAME:CET
DTSTART:20201025T010000
END:STANDARD
END:VTIMEZONE
BEGIN:VEVENT
DTSTART;TZID=Europe/Paris:20200919T080000
DTEND;TZID=Europe/Paris:20200926T200000
DTSTAMP:20260419T154207
CREATED:20200123T100708Z
LAST-MODIFIED:20200915T080954Z
UID:3300-1600502400-1601150400@www.vauvert.com
SUMMARY:Séjour à Seignosse pour les aînés REPORTÉ
DESCRIPTION:Séjour du 19 au 26 septembre REPORTÉ \nVoyage dans les Landes\, entre mer et montagnes\, aux portes du Pays Basque. \nVoyage ANCV\, les personnes non imposables sont prioritaires mais les autres peuvent s’inscrire (sur liste d’attente). \nTarifs :\nPersonnes non imposables : 345 €\nPersonnes imposables : 505 €\nPour tout le monde\, supplément de 77 € en cas de demande de chambre particulière. \n  \nInscriptions au CCAS dès le 3 février \n168 rue Montcalm à Vauvert \n04 66 73 17 80 – ccas@vauvert.com \n  \nCliquez pour obtenir le programme (format PDF)
URL:https://www.vauvert.com/agenda/sejour-a-seignosse-pour-les-aines/
ATTACH;FMTTYPE=image/jpeg:https://www.vauvert.com/wp-content/uploads/2020/01/ccas-affiche-seignosse-2020.jpg
END:VEVENT
END:VCALENDAR