BEGIN:VCALENDAR
VERSION:2.0
PRODID:-//Ville de Vauvert - ECPv5.14.2.1//NONSGML v1.0//EN
CALSCALE:GREGORIAN
METHOD:PUBLISH
X-WR-CALNAME:Ville de Vauvert
X-ORIGINAL-URL:https://www.vauvert.com
X-WR-CALDESC:évènements pour Ville de Vauvert
BEGIN:VTIMEZONE
TZID:Europe/Paris
BEGIN:DAYLIGHT
TZOFFSETFROM:+0100
TZOFFSETTO:+0200
TZNAME:CEST
DTSTART:20240331T010000
END:DAYLIGHT
BEGIN:STANDARD
TZOFFSETFROM:+0200
TZOFFSETTO:+0100
TZNAME:CET
DTSTART:20241027T010000
END:STANDARD
END:VTIMEZONE
BEGIN:VEVENT
DTSTART;TZID=Europe/Paris:20240313T140000
DTEND;TZID=Europe/Paris:20240313T180000
DTSTAMP:20260422T000217
CREATED:20240227T090623Z
LAST-MODIFIED:20240227T090623Z
UID:22123-1710338400-1710352800@www.vauvert.com
SUMMARY:Séance cinéma : Simone\, le voyage du siècle
DESCRIPTION:Dans le cadre du mois de la femme\, rendez-vous le mercredi 13 mars à l’auditorium Jean Denat au collège La Vallée Verte à 14h\, pour la projection du film “Simone\, le voyage du siècle”. \nSéance offerte par la ville\, tout public. \nUn biopic incontournable\, difficile de ne pas parler de cette figure emblématique qu’est Simone Veil dans le combat pour les droits des femmes ! Son destin\, son enfance\, ses combats politiques et ses tragédies\, un portrait épique et intime d’une femme au parcours hors du commun. \nCette projection sera suivie d’un débat avec Via Femina Fama sur l’évolution de la condition féminine au travers du temps.
URL:https://www.vauvert.com/agenda/seance-cinema-simone-le-voyage-du-siecle/
LOCATION:Auditorium Jean Denat\, Collège La Vallée Verte\, Vauvert\, Gard\, 30600\, France
ATTACH;FMTTYPE=image/jpeg:https://www.vauvert.com/wp-content/uploads/2024/02/affiche-film-simone-veil.jpg
END:VEVENT
END:VCALENDAR