BEGIN:VCALENDAR
VERSION:2.0
PRODID:-//Ville de Vauvert - ECPv5.14.2.1//NONSGML v1.0//EN
CALSCALE:GREGORIAN
METHOD:PUBLISH
X-WR-CALNAME:Ville de Vauvert
X-ORIGINAL-URL:https://www.vauvert.com
X-WR-CALDESC:évènements pour Ville de Vauvert
BEGIN:VTIMEZONE
TZID:Europe/Paris
BEGIN:DAYLIGHT
TZOFFSETFROM:+0100
TZOFFSETTO:+0200
TZNAME:CEST
DTSTART:20210328T010000
END:DAYLIGHT
BEGIN:STANDARD
TZOFFSETFROM:+0200
TZOFFSETTO:+0100
TZNAME:CET
DTSTART:20211031T010000
END:STANDARD
END:VTIMEZONE
BEGIN:VEVENT
DTSTART;TZID=Europe/Paris:20210214T080000
DTEND;TZID=Europe/Paris:20210214T180000
DTSTAMP:20260419T233009
CREATED:20210121T070017Z
LAST-MODIFIED:20210120T103313Z
UID:7727-1613289600-1613325600@www.vauvert.com
SUMMARY:Saint-Valentin
DESCRIPTION:Vous êtes amoureux/se ? Vous souhaitez déclarer votre flamme ? Crier votre amour sur tous les toits ? \nA l’occasion de la Saint-Valentin\, la mairie de Vauvert met à disposition ses 2 panneaux lumineux (parking du stade Pradille et place de l’Aficion) pour faire défiler vos mots d’amour et messages les plus originaux\, sincères et touchants. \nA vos plumes\, prêts\, partez !\nVous avez jusqu’au 11 février inclus pour envoyer vos mots doux à mairie@vauvert.com (en précisant dans l’objet : Saint-Valentin). \nLes messages\, de 80 caractères maximum (incluant espaces et ponctuation)\, doivent bien évidemment être courtois et polis\, signés d’un prénom et première lettre du nom de famille. Selon la quantité de messages reçus\, la mairie effectuera une sélection pour afficher les plus beaux. \n\nRenseignements : mairie de Vauvert au 04 66 73 10 73
URL:https://www.vauvert.com/agenda/saint-valentin/
LOCATION:place de l’Aficion\, Vauvert\, 30600\, France
ATTACH;FMTTYPE=image/jpeg:https://www.vauvert.com/wp-content/uploads/2021/01/affi-st-valentin-2021-web.jpg
ORGANIZER;CN="Ville%20de%20Vauvert":MAILTO:mairie@vauvert.com
END:VEVENT
END:VCALENDAR