BEGIN:VCALENDAR
VERSION:2.0
PRODID:-//Ville de Vauvert - ECPv5.14.2.1//NONSGML v1.0//EN
CALSCALE:GREGORIAN
METHOD:PUBLISH
X-WR-CALNAME:Ville de Vauvert
X-ORIGINAL-URL:https://www.vauvert.com
X-WR-CALDESC:évènements pour Ville de Vauvert
BEGIN:VTIMEZONE
TZID:Europe/Paris
BEGIN:DAYLIGHT
TZOFFSETFROM:+0100
TZOFFSETTO:+0200
TZNAME:CEST
DTSTART:20190331T010000
END:DAYLIGHT
BEGIN:STANDARD
TZOFFSETFROM:+0200
TZOFFSETTO:+0100
TZNAME:CET
DTSTART:20191027T010000
END:STANDARD
END:VTIMEZONE
BEGIN:VEVENT
DTSTART;TZID=Europe/Paris:20190906T170000
DTEND;TZID=Europe/Paris:20190908T233000
DTSTAMP:20260420T041150
CREATED:20190903T110128Z
LAST-MODIFIED:20190903T110128Z
UID:1577-1567789200-1567985400@www.vauvert.com
SUMMARY:Revivre de la fête votive de Gallician
DESCRIPTION:
URL:https://www.vauvert.com/agenda/revivre-de-la-fete-votive-de-gallician/
LOCATION:Vauvert\, France
END:VEVENT
END:VCALENDAR