BEGIN:VCALENDAR
VERSION:2.0
PRODID:-//Ville de Vauvert - ECPv5.14.2.1//NONSGML v1.0//EN
CALSCALE:GREGORIAN
METHOD:PUBLISH
X-WR-CALNAME:Ville de Vauvert
X-ORIGINAL-URL:https://www.vauvert.com
X-WR-CALDESC:évènements pour Ville de Vauvert
BEGIN:VTIMEZONE
TZID:Europe/Paris
BEGIN:DAYLIGHT
TZOFFSETFROM:+0100
TZOFFSETTO:+0200
TZNAME:CEST
DTSTART:20200329T010000
END:DAYLIGHT
BEGIN:STANDARD
TZOFFSETFROM:+0200
TZOFFSETTO:+0100
TZNAME:CET
DTSTART:20201025T010000
END:STANDARD
END:VTIMEZONE
BEGIN:VEVENT
DTSTART;TZID=Europe/Paris:20200328T180000
DTEND;TZID=Europe/Paris:20200328T200000
DTSTAMP:20260420T020715
CREATED:20200222T081525Z
LAST-MODIFIED:20200222T081525Z
UID:3844-1585418400-1585425600@www.vauvert.com
SUMMARY:Rencontres citoyennes / l'alimentation
DESCRIPTION:Rencontres citoyennes : habitants\, producteurs et candidats aux élections municipales\, discutons ensemble de notre alimentation sur Vauvert\,\nvendredi 28 février à 18h\nsalle Mistral\, organisées par le Secours catholique avec le LERIS (laboratoire d’études et de recherche sur l’intervention sociale) \nPour agrandir l’image\, cliquez dessus : \n \n  \n  \n 
URL:https://www.vauvert.com/agenda/rencontres-citoyennes-lalimentation/
LOCATION:Salle Mistral
ATTACH;FMTTYPE=image/jpeg:https://www.vauvert.com/wp-content/uploads/2020/02/affi-rencontres-citoyennes-28fevr2020.jpg
END:VEVENT
END:VCALENDAR