BEGIN:VCALENDAR
VERSION:2.0
PRODID:-//Ville de Vauvert - ECPv5.14.2.1//NONSGML v1.0//EN
CALSCALE:GREGORIAN
METHOD:PUBLISH
X-WR-CALNAME:Ville de Vauvert
X-ORIGINAL-URL:https://www.vauvert.com
X-WR-CALDESC:évènements pour Ville de Vauvert
BEGIN:VTIMEZONE
TZID:Europe/Paris
BEGIN:DAYLIGHT
TZOFFSETFROM:+0100
TZOFFSETTO:+0200
TZNAME:CEST
DTSTART:20220327T010000
END:DAYLIGHT
BEGIN:STANDARD
TZOFFSETFROM:+0200
TZOFFSETTO:+0100
TZNAME:CET
DTSTART:20221030T010000
END:STANDARD
END:VTIMEZONE
BEGIN:VEVENT
DTSTART;TZID=Europe/Paris:20220815T160000
DTEND;TZID=Europe/Paris:20220826T210000
DTSTAMP:20260421T173925
CREATED:20220627T092802Z
LAST-MODIFIED:20220627T095841Z
UID:12927-1660579200-1661547600@www.vauvert.com
SUMMARY:Quartier d'été 2022
DESCRIPTION:[vc_row][vc_column][vc_column_text css=”.vc_custom_1656322013244{margin-bottom: 0px !important;}”]\nQuartier d’été 2022\nCe dispositif revient (du 15 au 19 août) et du 22 au 26 août ⚽️???????? \navec des animations sportives gratuites\, encadrées par des professionnels pour les 8-17 ans \nRdv au city stade rue Albert Camus\, de 16h à 21h ⛹️‍♀️⛹️‍♂️????????‍♂️ \navec l’Ufolep ???? infos 07 66 08 51 52 – sans inscription \n[/vc_column_text][/vc_column][/vc_row]
URL:https://www.vauvert.com/agenda/quartier-dete-2022/
LOCATION:City stade\, 111 rue Albert Camus\, Vauvert\, 30600\, France
ATTACH;FMTTYPE=image/jpeg:https://www.vauvert.com/wp-content/uploads/2022/06/qrt-dete-aout2022-web-scaled.jpg
END:VEVENT
END:VCALENDAR