BEGIN:VCALENDAR
VERSION:2.0
PRODID:-//Ville de Vauvert - ECPv5.14.2.1//NONSGML v1.0//EN
CALSCALE:GREGORIAN
METHOD:PUBLISH
X-WR-CALNAME:Ville de Vauvert
X-ORIGINAL-URL:https://www.vauvert.com
X-WR-CALDESC:évènements pour Ville de Vauvert
BEGIN:VTIMEZONE
TZID:Europe/Paris
BEGIN:DAYLIGHT
TZOFFSETFROM:+0100
TZOFFSETTO:+0200
TZNAME:CEST
DTSTART:20190331T010000
END:DAYLIGHT
BEGIN:STANDARD
TZOFFSETFROM:+0200
TZOFFSETTO:+0100
TZNAME:CET
DTSTART:20191027T010000
END:STANDARD
END:VTIMEZONE
BEGIN:VEVENT
DTSTART;VALUE=DATE:20191020
DTEND;VALUE=DATE:20191021
DTSTAMP:20260420T002519
CREATED:20190903T125615Z
LAST-MODIFIED:20190903T125712Z
UID:1630-1571529600-1571615999@www.vauvert.com
SUMMARY:Pièce de théâtre « Revolvers et talons hauts » + journée taurine
DESCRIPTION:16h Pièce de théâtre « Revolvers et talons hauts » salle Bizet\, entrée gratuite\, organisée par le service de la culture \nJournée taurine\, organisée par le CT El Campo\, dans le cadre de son 30e anniversaire : \n\n9h acosso dans les prés du Cailar\, Pont de Laute\n11h tentadero de machos\, arènes\, gratuit\n12h apéritif et repas\, bar des Halles\, place Dr Arnoux\n15h30 mise à mort d’un becerro\, d’un novillo et d’un toro\, arènes\nJournée de l’Aficion Le Cailar-Vauvert\, avec le club taurin El Campo
URL:https://www.vauvert.com/agenda/piece-theatre-journee-taurine/
LOCATION:Salle Georges Bizet\, 365-357 Rue Louise Désir\, Vauvert\, Gard\, 30600\, France
END:VEVENT
END:VCALENDAR