BEGIN:VCALENDAR
VERSION:2.0
PRODID:-//Ville de Vauvert - ECPv5.14.2.1//NONSGML v1.0//EN
CALSCALE:GREGORIAN
METHOD:PUBLISH
X-WR-CALNAME:Ville de Vauvert
X-ORIGINAL-URL:https://www.vauvert.com
X-WR-CALDESC:évènements pour Ville de Vauvert
BEGIN:VTIMEZONE
TZID:Europe/Paris
BEGIN:DAYLIGHT
TZOFFSETFROM:+0100
TZOFFSETTO:+0200
TZNAME:CEST
DTSTART:20200329T010000
END:DAYLIGHT
BEGIN:STANDARD
TZOFFSETFROM:+0200
TZOFFSETTO:+0100
TZNAME:CET
DTSTART:20201025T010000
END:STANDARD
BEGIN:DAYLIGHT
TZOFFSETFROM:+0100
TZOFFSETTO:+0200
TZNAME:CEST
DTSTART:20210328T010000
END:DAYLIGHT
BEGIN:STANDARD
TZOFFSETFROM:+0200
TZOFFSETTO:+0100
TZNAME:CET
DTSTART:20211031T010000
END:STANDARD
END:VTIMEZONE
BEGIN:VEVENT
DTSTART;VALUE=DATE:20201201
DTEND;VALUE=DATE:20210320
DTSTAMP:20260419T155802
CREATED:20201201T105347Z
LAST-MODIFIED:20201201T105347Z
UID:7349-1606780800-1616198399@www.vauvert.com
SUMMARY:Opération Tombola solidaire Trop fort !
DESCRIPTION:Opération Tombola solidaire #tropfort !\n\n\n\n\nVente des billets sur le stand du Téléthon.\nAssociations et commerces se mobilisent\, lots à gagner :\n• tablette numérique (Notre petit prince Asperger) – tirage au sort le 5 décembre\n• sac de sport + sac de voyage + duo de vin (Courir à Vauvert) – tirage au sort le 12 décembre\n• affiche lithographie du film Playtime de Jacques tati 1967 (Christian Malbon) – tirage au sort le 19 décembre
URL:https://www.vauvert.com/agenda/operation-tombola-solidaire-trop-fort/
LOCATION:place Dr Arnoux\, place Dr Arnoux\, Vauvert\, Gard\, 30600\, France
ATTACH;FMTTYPE=image/jpeg:https://www.vauvert.com/wp-content/uploads/2020/12/affi-telethon-tombola-dec2020-web.jpg
ORGANIZER;CN="Ville%20de%20Vauvert":MAILTO:mairie@vauvert.com
END:VEVENT
END:VCALENDAR