BEGIN:VCALENDAR
VERSION:2.0
PRODID:-//Ville de Vauvert - ECPv5.14.2.1//NONSGML v1.0//EN
CALSCALE:GREGORIAN
METHOD:PUBLISH
X-WR-CALNAME:Ville de Vauvert
X-ORIGINAL-URL:https://www.vauvert.com
X-WR-CALDESC:évènements pour Ville de Vauvert
BEGIN:VTIMEZONE
TZID:Europe/Paris
BEGIN:DAYLIGHT
TZOFFSETFROM:+0100
TZOFFSETTO:+0200
TZNAME:CEST
DTSTART:20220327T010000
END:DAYLIGHT
BEGIN:STANDARD
TZOFFSETFROM:+0200
TZOFFSETTO:+0100
TZNAME:CET
DTSTART:20221030T010000
END:STANDARD
END:VTIMEZONE
BEGIN:VEVENT
DTSTART;VALUE=DATE:20220930
DTEND;VALUE=DATE:20221001
DTSTAMP:20260421T154055
CREATED:20220912T133402Z
LAST-MODIFIED:20220912T133711Z
UID:13545-1664496000-1664582399@www.vauvert.com
SUMMARY:Octobre rose 2022
DESCRIPTION:[vc_row][vc_column][vc_column_text css=”.vc_custom_1662989499560{margin-bottom: 0px !important;}”]\n\n\n\n\nOctobre rose – samedi 1er et jeudi 6 octobre 2022\n\n\nOctobre rose est organisé par l’association des Démoniaks\, le CCAS et Soraya Melter\, psychologue clinicienne. \nsamedi 1er octobre : la Boucle rose des Démoniaks \nle matin stands d’info sur le marché – 13h30 inscriptions (5E) à la Boucle rose (marche ou course\, dress code rose ! – 14h échauffement zumba avec Sylvie Sokoloff du centre culturel R. Gourdon – 14h30 départ de La Boucle rose des Démoniaks de Vauvert\, marche et course\, place Dr Arnoux – 16h tirage au sort. La recette sera intégralement versée à la Ligue contre le cancer présente sur place. \nLa commune se mobilise\, ses bâtiments communaux et ses fontaines seront éclairés ou colorés de rose tout ce mois de sensibilisation. \njeudi 6 octobre : un jour pour retrouver la confiance en son corps – complexe Bizet/Mistral de 9h à 16h.\nLe CCAS en partenariat avec Soraya Melter propose : \nDes ateliers (participation à partir d’1 euro) sur inscription au CCAS 04 66 73 17 80 avec : Alexandra Rome\, coach sportive\, sport adapté\, Christelle Desabre\, kinésithérapeute spécialiste du périnée\, Laure D’Hanens\, shiatsu\, Irène Grandin\, fasciathérapie\, Emilie Grandjean\, naturopathe\, fleurs de Bach\, Delphine Roland\, micro-nutritionniste\, Christelle Houde\, sophrologue \nQi Gong et piano une session de 16h30 à 18h (participation à partir d’1 euro)\, places limitées\, sur inscription au 06 08 12 13 36 avec Soraya Melter et Marc Vella\, pianiste nomade \nUne conférence :\n18h30 Accueil du public pour la conférence – 18h45 Chorale Gospel dirigée par Olivier Heyte – 19h Flash mob avec Aurélie Celia – Lancement de la conférence par Atout Philo – Conférence La guérison par la parole par Bertrand Vergely\, philosophe.\ninscription à la conférence : Atout philo – 07 85 08 11 17 atoutphilo@outloock.fr \nLa participation à la conférence et aux ateliers est fixée à 1E minimum\, recueillie sur place au profit de la Ligue contre le Cancer. Cette participation donne accès à une tombola. La Ligue accueillera le public. Chaque personne effectuant un versement dans l’urne de la Ligue recevra un ticket de tombola. De nombreux lots offerts par des partenaires seront tirés au sort. \nUne exposition de photographies sur place\, de Lola Schlesser\, photothérapeute\, au complexe Bizet/Mistral.\nBouquets offerts par la fleuriste Ann Van Diepen. Toiles originales de François Schlesser. \n\nCliquer ici pour télécharger le programme\n\n\n\n\n+ d’infos : www.facebook.com/villevauvert et www.facebook.com/Café-boutique-associatif-Le-solidaire–106938188166744 \nsur la boucle des Démoniaks : www.facebook.com/demoniaksdevauvert \nsur la journée Octobre rose : www.sorayamelter.com et www.facebook.com/AtoutPhilo \n\n\n\n\n\n\n\n[/vc_column_text][/vc_column][/vc_row]
URL:https://www.vauvert.com/agenda/octobre-rose-2022/
ATTACH;FMTTYPE=image/jpeg:https://www.vauvert.com/wp-content/uploads/2022/09/couv-flyer-octobre-rose-1et6oct2022.jpg
ORGANIZER;CN="Centre%20communal%20d%27action%20sociale%20%28CCAS%29":MAILTO:ccas@vauvert.com
END:VEVENT
END:VCALENDAR