BEGIN:VCALENDAR
VERSION:2.0
PRODID:-//Ville de Vauvert - ECPv5.14.2.1//NONSGML v1.0//EN
CALSCALE:GREGORIAN
METHOD:PUBLISH
X-WR-CALNAME:Ville de Vauvert
X-ORIGINAL-URL:https://www.vauvert.com
X-WR-CALDESC:évènements pour Ville de Vauvert
BEGIN:VTIMEZONE
TZID:Europe/Paris
BEGIN:DAYLIGHT
TZOFFSETFROM:+0100
TZOFFSETTO:+0200
TZNAME:CEST
DTSTART:20210328T010000
END:DAYLIGHT
BEGIN:STANDARD
TZOFFSETFROM:+0200
TZOFFSETTO:+0100
TZNAME:CET
DTSTART:20211031T010000
END:STANDARD
END:VTIMEZONE
BEGIN:VEVENT
DTSTART;TZID=Europe/Paris:20210124T150000
DTEND;TZID=Europe/Paris:20210124T180000
DTSTAMP:20260419T224452
CREATED:20210121T094140Z
LAST-MODIFIED:20210121T094904Z
UID:7745-1611500400-1611511200@www.vauvert.com
SUMMARY:Nuit de la lecture
DESCRIPTION:Les bibliothécaires auraient aimé pouvoir vous inviter à une nuit de la lecture dont ils ont le secret\, mais crise sanitaire oblige\, ils ne pourront pas vous retrouver dans les mêmes conditions.\n\n\nAussi\, ils vous proposent des rencontres autour de petits moments poétiques\, romanesques…\n\n\n \n\n\nDimanche 24 janvier 2021 à la médiathèque avec le comédien Philippe Béranger et Les Avocats du Diable. Tout public à partir de 10 ans.\n\n\n \n\n\nLa jauge est limitée à 6 personnes\, trois créneaux sont proposés : 15h\, 15h45\, 16h30\n\n\n \n\n\nPour une bonne organisation\, merci de réserver votre créneau avant le vendredi 22 janvier\, en téléphonant à la médiathèque au 04 66 731 730
URL:https://www.vauvert.com/agenda/nuit-de-la-lecture-2/
LOCATION:Médiathèque Simone Veil\, 2 Place des Halles\, Vauvert\, Gard\, 30600\, France
ATTACH;FMTTYPE=image/jpeg:https://www.vauvert.com/wp-content/uploads/2021/01/nuits-de-la-lecture-2021.jpg
END:VEVENT
END:VCALENDAR