BEGIN:VCALENDAR
VERSION:2.0
PRODID:-//Ville de Vauvert - ECPv5.14.2.1//NONSGML v1.0//EN
CALSCALE:GREGORIAN
METHOD:PUBLISH
X-WR-CALNAME:Ville de Vauvert
X-ORIGINAL-URL:https://www.vauvert.com
X-WR-CALDESC:évènements pour Ville de Vauvert
BEGIN:VTIMEZONE
TZID:Europe/Paris
BEGIN:DAYLIGHT
TZOFFSETFROM:+0100
TZOFFSETTO:+0200
TZNAME:CEST
DTSTART:20200329T010000
END:DAYLIGHT
BEGIN:STANDARD
TZOFFSETFROM:+0200
TZOFFSETTO:+0100
TZNAME:CET
DTSTART:20201025T010000
END:STANDARD
END:VTIMEZONE
BEGIN:VEVENT
DTSTART;TZID=Europe/Paris:20201220T090000
DTEND;TZID=Europe/Paris:20201220T180000
DTSTAMP:20260419T194405
CREATED:20201208T151908Z
LAST-MODIFIED:20201208T151908Z
UID:7426-1608454800-1608487200@www.vauvert.com
SUMMARY:Marché de Noël enchanté
DESCRIPTION:Marché de Noël\nToute la journée de 9h à 18h. Place Dr Arnoux et cœur de ville.\nDe nombreux stands vous attendent pour un marché de Noël enchanté : bijoux\, produits du terroir\, safran\, pâtisseries\, objets de décoration\, jouets en bois\, marrons chauds… \nDes animations à ne pas manquer : \n\nQuatre mascottes : Mickey\, Minnie\, Donald et Dingo en déambulation dans les rues du centre-ville avec le Père Noël \nDéambulation musicale de la fanfare Gombo Révolution de 10h à 12h et de 14h à 17h \nEn déambulation dans le marché\, deux rennes\, un lutin et son traîneau\n\n\nDÉPLIANT DE NOËL ENCHANTÉ 2020\n\nPour voir le programme en PDF\, cliquez ici \n\nLE COIN DES PHOTOS DE NOËL\n \nVenez vous prendre en photo dans le décor de Noël 2020.\nA l’intérieur des halles du 9 au 24 décembre. \n\nJEU CONCOURS\nPensez à participer à la loterie en partenariat avec les commerçants vauverdois\, Consommons local\, du 9 au 24 décembre 2020 ! \n  \nLe tirage au sort aura lieu le 24 décembre après-midi en live sur Facebook. \n\nILLUMINATIONS DE NOËL\nA la tombée de la nuit\, redécouvrez vos illuminations de Noël en cœur de ville… \n\nProgramme sous réserve de modifications\, événement dans le respect des contraintes sanitaires\, merci d’appliquer les gestes barrières.\nOrganisation ville de Vauvert\, service événementiel – Tél. 04 66 73 10 45
URL:https://www.vauvert.com/agenda/marche-noel-2020/
LOCATION:place Dr Arnoux\, place Dr Arnoux\, Vauvert\, Gard\, 30600\, France
ATTACH;FMTTYPE=image/jpeg:https://www.vauvert.com/wp-content/uploads/2020/12/affiche-noel-2020-web.jpg
ORGANIZER;CN="Ville%20de%20Vauvert":MAILTO:mairie@vauvert.com
END:VEVENT
END:VCALENDAR