BEGIN:VCALENDAR
VERSION:2.0
PRODID:-//Ville de Vauvert - ECPv5.14.2.1//NONSGML v1.0//EN
CALSCALE:GREGORIAN
METHOD:PUBLISH
X-WR-CALNAME:Ville de Vauvert
X-ORIGINAL-URL:https://www.vauvert.com
X-WR-CALDESC:évènements pour Ville de Vauvert
BEGIN:VTIMEZONE
TZID:Europe/Paris
BEGIN:DAYLIGHT
TZOFFSETFROM:+0100
TZOFFSETTO:+0200
TZNAME:CEST
DTSTART:20190331T010000
END:DAYLIGHT
BEGIN:STANDARD
TZOFFSETFROM:+0200
TZOFFSETTO:+0100
TZNAME:CET
DTSTART:20191027T010000
END:STANDARD
END:VTIMEZONE
BEGIN:VEVENT
DTSTART;TZID=Europe/Paris:20191208T173000
DTEND;TZID=Europe/Paris:20191208T203000
DTSTAMP:20260419T145212
CREATED:20190904T072130Z
LAST-MODIFIED:20191126T151551Z
UID:1671-1575826200-1575837000@www.vauvert.com
SUMMARY:Loto du Téléthon
DESCRIPTION:à 17h30 \nLoto du Téléthon \nOrganisé par l’association l’Amicale Vauverdoise\, salles Bizet et Mistral \n  \nPour plus de renseignements\, service événementiel au 04 66 73 17 35. \nProgramme sous réserve de modifications.
URL:https://www.vauvert.com/agenda/loto-du-telethon/
LOCATION:Salles Bizet & Mistral\, rue Louise Désir\, Vauvert\, Gard\, 30600\, France
END:VEVENT
END:VCALENDAR