BEGIN:VCALENDAR
VERSION:2.0
PRODID:-//Ville de Vauvert - ECPv5.14.2.1//NONSGML v1.0//EN
CALSCALE:GREGORIAN
METHOD:PUBLISH
X-WR-CALNAME:Ville de Vauvert
X-ORIGINAL-URL:https://www.vauvert.com
X-WR-CALDESC:évènements pour Ville de Vauvert
BEGIN:VTIMEZONE
TZID:Europe/Paris
BEGIN:DAYLIGHT
TZOFFSETFROM:+0100
TZOFFSETTO:+0200
TZNAME:CEST
DTSTART:20190331T010000
END:DAYLIGHT
BEGIN:STANDARD
TZOFFSETFROM:+0200
TZOFFSETTO:+0100
TZNAME:CET
DTSTART:20191027T010000
END:STANDARD
END:VTIMEZONE
BEGIN:VEVENT
DTSTART;VALUE=DATE:20191012
DTEND;VALUE=DATE:20191013
DTSTAMP:20260420T022647
CREATED:20190903T123534Z
LAST-MODIFIED:20190903T123534Z
UID:1624-1570838400-1570924799@www.vauvert.com
SUMMARY:Lectures musicales
DESCRIPTION:20h30 Lectures musicales\, dans le cadre de l’exposition de photographies de Jean-Baptiste Hugo\, organisées par la direction de la culture\, espace culture Jean Jaurès
URL:https://www.vauvert.com/agenda/lectures-musicales/
LOCATION:Espace Culture Jean jaurès\, Place du Docteur Arnoux\, Vauvert\, Gard\, 30600
END:VEVENT
END:VCALENDAR