BEGIN:VCALENDAR
VERSION:2.0
PRODID:-//Ville de Vauvert - ECPv5.14.2.1//NONSGML v1.0//EN
CALSCALE:GREGORIAN
METHOD:PUBLISH
X-WR-CALNAME:Ville de Vauvert
X-ORIGINAL-URL:https://www.vauvert.com
X-WR-CALDESC:évènements pour Ville de Vauvert
BEGIN:VTIMEZONE
TZID:Europe/Paris
BEGIN:DAYLIGHT
TZOFFSETFROM:+0100
TZOFFSETTO:+0200
TZNAME:CEST
DTSTART:20240331T010000
END:DAYLIGHT
BEGIN:STANDARD
TZOFFSETFROM:+0200
TZOFFSETTO:+0100
TZNAME:CET
DTSTART:20241027T010000
END:STANDARD
END:VTIMEZONE
BEGIN:VEVENT
DTSTART;VALUE=DATE:20240127
DTEND;VALUE=DATE:20240128
DTSTAMP:20260421T201553
CREATED:20240123T112611Z
LAST-MODIFIED:20240123T112611Z
UID:21306-1706313600-1706399999@www.vauvert.com
SUMMARY:Séance de lecture et dédicade par Daniel Saint-Lary
DESCRIPTION:La ville de Vauvert et son service Culture vous propose une séance lecture et dédicace de Daniel Saint-Lary pour son nouveau roman Blues café. \nLa lecture est organisée le samedi 27 janvier à 14h à la médiathèque puis se poursuivra par une séance de dédicace. \n“Michaël Werner est un écrivain à succès à qui tout sourit. L’argent\, la vie facile\, une femme sublime\, tout. Mais s’il arrive qu’un facteur sonne toujours deux fois\, un malheur frappe rarement seul. Et le malheur ne va pas y aller de main morte au cours d’une soirée au « Blues café »\, le restaurant musical en vogue sur le Canal Saint-Martin à Paris. Ce soir-là\, le monde de Michaël Werner bascule\, et va l’entraîner dans une spirale infernale qui l’amènera aux tréfonds les plus sombres de l’âme humaine… Jusqu’à être accusé d’un meurtre sordide commis dans la garrigue gardoise. Est-il ce coupable idéal que semble faire de lui l’enquête dirigée par le commissaire Dakowski\, le patron de la PJ de Nîmes ? Ou la victime toute désignée d’une machination machiavélique ? Saura-t-il trouver les ressources pour se sortir des décombres dans lesquels son destin l’a précipité ?… Mais à quel prix ?“
URL:https://www.vauvert.com/agenda/lecture-et-dedicace-daniel-saint-lary/
LOCATION:Médiathèque Simone Veil\, 2 Place des Halles\, Vauvert\, Gard\, 30600\, France
ATTACH;FMTTYPE=image/jpeg:https://www.vauvert.com/wp-content/uploads/2024/01/affi-mediatheque-lecture-27janv2024.jpg
END:VEVENT
END:VCALENDAR