BEGIN:VCALENDAR
VERSION:2.0
PRODID:-//Ville de Vauvert - ECPv5.14.2.1//NONSGML v1.0//EN
CALSCALE:GREGORIAN
METHOD:PUBLISH
X-WR-CALNAME:Ville de Vauvert
X-ORIGINAL-URL:https://www.vauvert.com
X-WR-CALDESC:évènements pour Ville de Vauvert
BEGIN:VTIMEZONE
TZID:Europe/Paris
BEGIN:DAYLIGHT
TZOFFSETFROM:+0100
TZOFFSETTO:+0200
TZNAME:CEST
DTSTART:20240331T010000
END:DAYLIGHT
BEGIN:STANDARD
TZOFFSETFROM:+0200
TZOFFSETTO:+0100
TZNAME:CET
DTSTART:20241027T010000
END:STANDARD
END:VTIMEZONE
BEGIN:VEVENT
DTSTART;TZID=Europe/Paris:20240301T060000
DTEND;TZID=Europe/Paris:20240331T220000
DTSTAMP:20260422T020553
CREATED:20240205T101415Z
LAST-MODIFIED:20240403T083647Z
UID:21731-1709272800-1711922400@www.vauvert.com
SUMMARY:Le mois de la femme\, c'est tout un programme !
DESCRIPTION:“Parce que nous sommes convaincus que le sujet des droits des femmes mérite bien plus qu’une journée\, nous y avons dédié le mois de mars. Il est important pour nous d’ouvrir la question sur ce sujet et de toucher tout le monde par des spectacles culturels et interactifs\, accessibles à tous. Nous sommes impatients de vous retrouver autour de ces différentes manifestations” Laurence Emmanuelli\, adjointe à la culture. \n\n“Il est crucial pour nous d’éclairer sur le sujet car les droits des femmes restent fragiles. Il est important d’en avoir conscience\, de constamment se battre pour les réaffirmer et d’en acquérir d’autres. La ville de Vauvert a à cœur de libérer la parole sur ce sujet en sensibilisant ses habitants quel qu’en soit leur âge et en accompagnant celles qui en auraient besoin.” Elisabeth Michalski\, adjointe au CCAS.
URL:https://www.vauvert.com/agenda/le-mois-de-la-femme-2024/
LOCATION:Mairie de Vauvert\, 2 place de la Libération et du 8 mai 1945\, Vauvert\, 30600
ATTACH;FMTTYPE=image/jpeg:https://www.vauvert.com/wp-content/uploads/2024/02/affi-a3-mois-de-la-femme-2024-web-scaled.jpg
ORGANIZER;CN="Ville%20de%20Vauvert":MAILTO:mairie@vauvert.com
END:VEVENT
END:VCALENDAR