BEGIN:VCALENDAR
VERSION:2.0
PRODID:-//Ville de Vauvert - ECPv5.14.2.1//NONSGML v1.0//EN
CALSCALE:GREGORIAN
METHOD:PUBLISH
X-WR-CALNAME:Ville de Vauvert
X-ORIGINAL-URL:https://www.vauvert.com
X-WR-CALDESC:évènements pour Ville de Vauvert
BEGIN:VTIMEZONE
TZID:Europe/Paris
BEGIN:DAYLIGHT
TZOFFSETFROM:+0100
TZOFFSETTO:+0200
TZNAME:CEST
DTSTART:20200329T010000
END:DAYLIGHT
BEGIN:STANDARD
TZOFFSETFROM:+0200
TZOFFSETTO:+0100
TZNAME:CET
DTSTART:20201025T010000
END:STANDARD
END:VTIMEZONE
BEGIN:VEVENT
DTSTART;TZID=Europe/Paris:20200306T183000
DTEND;TZID=Europe/Paris:20200306T213000
DTSTAMP:20260419T224451
CREATED:20200214T135619Z
LAST-MODIFIED:20200214T135619Z
UID:3712-1583519400-1583530200@www.vauvert.com
SUMMARY:Lancement de la saison taurine vauverdoise
DESCRIPTION:Le lancement de la saison taurine vauverdoise 2020 est prévu vendredi 6 mars 2020 à 18h30\, salle Georges Bizet.\nA cette occasion : soirée taurine\, exposition de peintures de Teddy Drapp et verre de l’amitié. \n********************************\nTeddy Drapp \nL’artiste conjugue un art pictural né de la culture urbaine «Hip Hop» du début des années 80\, toujours prisé à l’heure actuelle\, agrémenté d’ une touche de «pop art»\, avec la culture taurine et les traditions camarguaises. \n******************************** \nInvitation\n \n 
URL:https://www.vauvert.com/agenda/lancement-de-la-saison-taurine-vauverdoise/
LOCATION:Salle Georges Bizet\, 365-357 Rue Louise Désir\, Vauvert\, Gard\, 30600\, France
ATTACH;FMTTYPE=image/jpeg:https://www.vauvert.com/wp-content/uploads/2020/02/invit-presentation-saison-taurine-2020.jpg
END:VEVENT
END:VCALENDAR