BEGIN:VCALENDAR
VERSION:2.0
PRODID:-//Ville de Vauvert - ECPv5.14.2.1//NONSGML v1.0//EN
CALSCALE:GREGORIAN
METHOD:PUBLISH
X-WR-CALNAME:Ville de Vauvert
X-ORIGINAL-URL:https://www.vauvert.com
X-WR-CALDESC:évènements pour Ville de Vauvert
BEGIN:VTIMEZONE
TZID:Europe/Paris
BEGIN:DAYLIGHT
TZOFFSETFROM:+0100
TZOFFSETTO:+0200
TZNAME:CEST
DTSTART:20190331T010000
END:DAYLIGHT
BEGIN:STANDARD
TZOFFSETFROM:+0200
TZOFFSETTO:+0100
TZNAME:CET
DTSTART:20191027T010000
END:STANDARD
END:VTIMEZONE
BEGIN:VEVENT
DTSTART;TZID=Europe/Paris:20191003T183000
DTEND;TZID=Europe/Paris:20191003T200000
DTSTAMP:20260420T074556
CREATED:20190903T122211Z
LAST-MODIFIED:20191128T131031Z
UID:1608-1570127400-1570132800@www.vauvert.com
SUMMARY:Jeudi de l’environnement
DESCRIPTION:
URL:https://www.vauvert.com/agenda/jeudi-de-lenvironnement/2019-10-03/
LOCATION:Salle Emile Guigou\, Hôtel de ville\, Place Libération et 8 Mai 45\, Vauvert\, Gard\, 30600\, France
ORGANIZER;CN="Ville%20de%20Vauvert":MAILTO:mairie@vauvert.com
END:VEVENT
END:VCALENDAR