BEGIN:VCALENDAR
VERSION:2.0
PRODID:-//Ville de Vauvert - ECPv5.14.2.1//NONSGML v1.0//EN
CALSCALE:GREGORIAN
METHOD:PUBLISH
X-WR-CALNAME:Ville de Vauvert
X-ORIGINAL-URL:https://www.vauvert.com
X-WR-CALDESC:évènements pour Ville de Vauvert
BEGIN:VTIMEZONE
TZID:Europe/Paris
BEGIN:DAYLIGHT
TZOFFSETFROM:+0100
TZOFFSETTO:+0200
TZNAME:CEST
DTSTART:20190331T010000
END:DAYLIGHT
BEGIN:STANDARD
TZOFFSETFROM:+0200
TZOFFSETTO:+0100
TZNAME:CET
DTSTART:20191027T010000
END:STANDARD
END:VTIMEZONE
BEGIN:VEVENT
DTSTART;TZID=Europe/Paris:20191001T080000
DTEND;TZID=Europe/Paris:20191031T170000
DTSTAMP:20260420T060140
CREATED:20190903T121308Z
LAST-MODIFIED:20191030T144713Z
UID:1602-1569916800-1572541200@www.vauvert.com
SUMMARY:Inscription aux colis de noël ou au repas des aînés
DESCRIPTION:Inscription aux colis de noël ou au repas des aînés. Inscriptions au CCAS auprès de Françoise Guillaumet
URL:https://www.vauvert.com/agenda/inscription-aux-colis-de-noel-ou-au-repas-des-aines/
LOCATION:CCAS\, 168 rue Montcalm\, Vauvert\, Gard\, 30600\, France
ORGANIZER;CN="Centre%20communal%20d%27action%20sociale%20%28CCAS%29":MAILTO:ccas@vauvert.com
END:VEVENT
END:VCALENDAR