BEGIN:VCALENDAR
VERSION:2.0
PRODID:-//Ville de Vauvert - ECPv5.14.2.1//NONSGML v1.0//EN
CALSCALE:GREGORIAN
METHOD:PUBLISH
X-WR-CALNAME:Ville de Vauvert
X-ORIGINAL-URL:https://www.vauvert.com
X-WR-CALDESC:évènements pour Ville de Vauvert
BEGIN:VTIMEZONE
TZID:Europe/Paris
BEGIN:DAYLIGHT
TZOFFSETFROM:+0100
TZOFFSETTO:+0200
TZNAME:CEST
DTSTART:20190331T010000
END:DAYLIGHT
BEGIN:STANDARD
TZOFFSETFROM:+0200
TZOFFSETTO:+0100
TZNAME:CET
DTSTART:20191027T010000
END:STANDARD
END:VTIMEZONE
BEGIN:VEVENT
DTSTART;VALUE=DATE:20190918
DTEND;VALUE=DATE:20190919
DTSTAMP:20260420T074327
CREATED:20190903T114816Z
LAST-MODIFIED:20190903T114816Z
UID:1581-1568764800-1568851199@www.vauvert.com
SUMMARY:Grande gougerie
DESCRIPTION:Dans le cadre de la résidence d’artiste de Vincent Dezeuze (artiste graveur)\, grande gougerie sur le parvis de l’Espace Culture Jean Jaurès. Ouvert à tous : réalisation d’une grande estampe collective gravée sur bois et imprimée sur presse traditionnelle. Organisée par la direction de la culture.
URL:https://www.vauvert.com/agenda/grande-gougerie/
LOCATION:Espace Culture Jean jaurès\, Place du Docteur Arnoux\, Vauvert\, Gard\, 30600
END:VEVENT
END:VCALENDAR