BEGIN:VCALENDAR
VERSION:2.0
PRODID:-//Ville de Vauvert - ECPv5.14.2.1//NONSGML v1.0//EN
CALSCALE:GREGORIAN
METHOD:PUBLISH
X-WR-CALNAME:Ville de Vauvert
X-ORIGINAL-URL:https://www.vauvert.com
X-WR-CALDESC:évènements pour Ville de Vauvert
BEGIN:VTIMEZONE
TZID:Europe/Paris
BEGIN:DAYLIGHT
TZOFFSETFROM:+0100
TZOFFSETTO:+0200
TZNAME:CEST
DTSTART:20190331T010000
END:DAYLIGHT
BEGIN:STANDARD
TZOFFSETFROM:+0200
TZOFFSETTO:+0100
TZNAME:CET
DTSTART:20191027T010000
END:STANDARD
END:VTIMEZONE
BEGIN:VEVENT
DTSTART;TZID=Europe/Paris:20191006T150000
DTEND;TZID=Europe/Paris:20191006T200000
DTSTAMP:20260420T060729
CREATED:20190903T123020Z
LAST-MODIFIED:20190903T123020Z
UID:1620-1570374000-1570392000@www.vauvert.com
SUMMARY:Finale du trophée de l’avenir
DESCRIPTION:15h Finale du trophée de l’avenir\, arènes \nTarif : entrée générale 11 euros\, place numérotée 15 euros
URL:https://www.vauvert.com/agenda/finale-du-trophee-de-lavenir/
LOCATION:Arènes Jean Brunel\, 1 Place Paul Allier\, Vauvert\, Gard\, 30600
END:VEVENT
END:VCALENDAR