BEGIN:VCALENDAR
VERSION:2.0
PRODID:-//Ville de Vauvert - ECPv5.14.2.1//NONSGML v1.0//EN
CALSCALE:GREGORIAN
METHOD:PUBLISH
X-WR-CALNAME:Ville de Vauvert
X-ORIGINAL-URL:https://www.vauvert.com
X-WR-CALDESC:évènements pour Ville de Vauvert
BEGIN:VTIMEZONE
TZID:Europe/Paris
BEGIN:DAYLIGHT
TZOFFSETFROM:+0100
TZOFFSETTO:+0200
TZNAME:CEST
DTSTART:20220327T010000
END:DAYLIGHT
BEGIN:STANDARD
TZOFFSETFROM:+0200
TZOFFSETTO:+0100
TZNAME:CET
DTSTART:20221030T010000
END:STANDARD
END:VTIMEZONE
BEGIN:VEVENT
DTSTART;TZID=Europe/Paris:20220726T183000
DTEND;TZID=Europe/Paris:20220731T210000
DTSTAMP:20260421T174950
CREATED:20220624T123511Z
LAST-MODIFIED:20220628T131101Z
UID:12913-1658860200-1659301200@www.vauvert.com
SUMMARY:Fête votive de Gallician
DESCRIPTION:[vc_row][vc_column][vc_column_text css=”.vc_custom_1656421769976{margin-bottom: 0px !important;}”]A Vauvert\, l’été rime avec festivités\, et plus précisément le retour de ses traditionnelles fêtes votives tant attendues ! La fête votive de Gallician\, avec sa fameuse gaze\, se déroulera du mardi 26 juillet au dimanche 31 juillet 2022. Au programme : traditions\, courses de taureaux\, apéritif musical\, bal\, mais avant tout\, un grand moment de partage\, d’échanges\, et de rencontres ! \nPour voir le programme : cliquez ici \nMardi 26 juillet en partenariat avec le café du Centre\n18h30 Bandido des manades Labourayre\, Briaux et Cayzac\nApéritif musical\n21h Défilé de la jeunesse\n22h Festival des manades Labourayre\, Briaux et Cayzac \nMercredi 27 juillet – journée des enfants\n9h Rendez-vous sur la place\, départ en petit train vers les prés de la manade Martini\nDéjeuner aux prés offert aux enfants\n11h Départ du petit train vers Gallician avant l’abrivado (inscription au bureau municipal\, attention places limitées)\n11h30 Abrivado : départ des prés\, manade Martini\n12h Arènes : 1 Vachette\nApéro mousse animé par Damien Inesta\nRepas sur inscription au Café du centre\, 7 €\n15h30 Concours de boules enfant\, 2 enfants de moins de 15 ans ou 1 adulte 1 enfant\, organisé par Les pieds tanqués\n17h Course de taureaux emboulés\, manade Martini\, animée par les jeunes\n18h30 Bandido : départ des arènes par la levée du canal jusqu’aux prés\, manade Martini\, bandido longue (1 par 1\, emmaillés sur le parcours)\n19h Apéritif musical animé par Damien Inesta\n22h Interbandes\, manade Martini\, entrée 3 €\n23h Bal animé par Damien Inesta \nJeudi 28 juillet\n11h Abrivado : départ du Pont des Tourradons par la route de la Laune\, manade Aubanel\n12h Arènes : 1 vachette\nApéritif animé par Pierrick Menras\n15h Boulodrome\, Challenge Alain Boissier et Armand Gavanon organisé par l’EBJC\n17h Course de taureaux emboulés\, manade Félix\, animée par les jeunes\n18h30 Bandido : Arènes – pont\, manade Aubanel\n19h Apéritif musical par Pierrick Menras\n21h Boulodrome – concours de boules organisé par Les pieds tanqués\n22h Encierro\, manade Aubanel\n23h Bal animé par Pierrick Menras \nVendredi 29 juillet 2022 – journée des anciens\n8h Boulodrome\, reprise du Challenge Alain Boissier et Armand Gavanon organisé par l’EBJC avec le déjeuner offert aux participants par la famille Boissier\n11h Gaze : Franquevaux vers Gallician\, manades du Gardon et de la Lauze\nParcours : 4 gaze de 2 taureaux\, du char côté Franquevaux au char sur la levée côté marais\, suivies de 2 abrivado jusqu’aux arènes\n12h Arènes : 1 vachette\nApéritif animé par Stany\n17h Course école taurine de Petite Camargue\, manade La Clapière\, entrée gratuite\n18h30 Bandido : arènes – levée du canal\, manades du Gardon et de la Lauze\n19h Apéritif musical\, animé par Bastien Peyre et Andréo\n21h Boulodrome\, concours de boules organisé par Les pieds tanqués\n22h Festival. Abrivado : pont – arènes et bandido : arènes – pont\, manades du Gardon et de la Lauze\n23h Bal animé par Bastien Peyre et Andréo \nSamedi 30 juillet – journée à l’ancienne\n9h Déjeuner offert aux personnes costumées au mas des Iscles\, animé par la Peña l’Occitane\n11h Abrivado : départ des Iscles\, manade Chaballier\n12h Arènes : 1 vachette\nApéritif animé par la Peña l’Occitane et Bastien Peyre\n15h Concours de boules organisé par Les pieds tanqués\n17h Course école taurine de Sommières\, manade Lafisca\n18h30 Bandido : arènes – pont\, manade Chaballier\, à l’ancienne\n19h Apéritif musical animé par Damien Inesta et Florian Falgairolle\n21h Boulodrome\, concours de boules organisé par Les pieds tanqués\n22h Course de nuit\, manade de Franquevaux\, entrée gratuite\n23h Bal animé par Damien Inesta et Florian Falgairolle \nDimanche 31 juillet\n11h Présentation des manades du concours\, animée par la Peña Camargua\n11h30 Concours d’abrivado : manades Cayzac (vainqueur 2021)\, St Louis\, Agnel\, Conti-Munoz\nApéritif animé par la Peña Camargua et par Damien Inesta et Florian Falgairolle\n16h30 Course école taurine de Sommières\, manade Félix\, entrée gratuite\n18h30 Bandido des manades du concours (1 par 1 pour le vainqueur et par 4 pour les 3 autres manades)\nAprès la bandido remise des oscars de la fête\nApéritif musical animé par Damien Inesta \nPour voir le programme : cliquez ici \n\nMot de l’élu\n« Parce que nos traditions n’ont d’avenir que si elles sont partagées\, nous sommes heureux de vous retrouver pour ces temps festifs\, de rencontre\, d’échanges qui nous sont si chers! A Vauvert\, venez découvrir dans nos rues de beaux rendez-vous taurins populaires.  \nPour cette fête votive nous avons souhaité\, comme pour nos autres manifestations\, mettre en valeur la convivialité et le partage! Un spectacle inoubliable comme chaque année avec les gardians\, les chevaux et taureaux au galop lors des abrivado et bandido. Un évènement incontournable dans la région… et gratuit! Il y en a pour tous les goûts\, les visiteurs pourront jouer aux boules\, danser au bal\, et les enfants pourront même aller jusqu’aux prés en petit train. Une fête qui vaut le détour ! » \nBruno Pascal\, adjoint aux traditions et festivités. \n\nOrganisation : commission des festivités de Gallician\nRenseignements : service événementiel\nTél. 04 66 73 17 35 \n\n       \n\n[/vc_column_text][/vc_column][/vc_row][vc_row][vc_column][/vc_column][/vc_row]
URL:https://www.vauvert.com/agenda/fete-votive-gallician-2022/
LOCATION:Gallician\, hameau de Gallician\, Vauvert\, 30600\, France
ATTACH;FMTTYPE=image/jpeg:https://www.vauvert.com/wp-content/uploads/2022/06/affiche-fete-gallician-2022-web.jpg
END:VEVENT
END:VCALENDAR