BEGIN:VCALENDAR
VERSION:2.0
PRODID:-//Ville de Vauvert - ECPv5.14.2.1//NONSGML v1.0//EN
CALSCALE:GREGORIAN
METHOD:PUBLISH
X-WR-CALNAME:Ville de Vauvert
X-ORIGINAL-URL:https://www.vauvert.com
X-WR-CALDESC:évènements pour Ville de Vauvert
BEGIN:VTIMEZONE
TZID:Europe/Paris
BEGIN:DAYLIGHT
TZOFFSETFROM:+0100
TZOFFSETTO:+0200
TZNAME:CEST
DTSTART:20200329T010000
END:DAYLIGHT
BEGIN:STANDARD
TZOFFSETFROM:+0200
TZOFFSETTO:+0100
TZNAME:CET
DTSTART:20201025T010000
END:STANDARD
END:VTIMEZONE
BEGIN:VEVENT
DTSTART;TZID=Europe/Paris:20200905T140000
DTEND;TZID=Europe/Paris:20200905T180000
DTSTAMP:20260419T190700
CREATED:20200825T101024Z
LAST-MODIFIED:20200904T122029Z
UID:6297-1599314400-1599328800@www.vauvert.com
SUMMARY:Fête des associations 2020
DESCRIPTION:Rendez-vous le 5 septembre de 14h à 18h à la fête des associations\, sur les allées Victor Hugo\, pour découvrir toutes les activités\, associations et structures présentes sur Vauvert ! \n  \nPour voir le programme des animations\, cliquez ici :\n \n  \nPour voir le plan des stands\, cliquez ici :\n \n  \n\nInformations Covid-19\nRespect des mesures sanitaires en vigueur et des gestes barrières. Port du masque obligatoire. \n\nPlus d’informations sur la page Facebook officielle de la ville de Vauvert et dans l’événement associé. \nProgramme sous réserve de modifications.
URL:https://www.vauvert.com/agenda/fete-des-associations-2020/2020-09-05/
LOCATION:allées Victor Hugo\, 30600 Vauvert\, 56 avenue Victor Hugo\, Vauvert\, 30600\, France
ATTACH;FMTTYPE=image/jpeg:https://www.vauvert.com/wp-content/uploads/2020/07/affiche-fete-associations-5sept2020-web.jpg
END:VEVENT
END:VCALENDAR