BEGIN:VCALENDAR
VERSION:2.0
PRODID:-//Ville de Vauvert - ECPv5.14.2.1//NONSGML v1.0//EN
CALSCALE:GREGORIAN
METHOD:PUBLISH
X-WR-CALNAME:Ville de Vauvert
X-ORIGINAL-URL:https://www.vauvert.com
X-WR-CALDESC:évènements pour Ville de Vauvert
BEGIN:VTIMEZONE
TZID:Europe/Paris
BEGIN:DAYLIGHT
TZOFFSETFROM:+0100
TZOFFSETTO:+0200
TZNAME:CEST
DTSTART:20220327T010000
END:DAYLIGHT
BEGIN:STANDARD
TZOFFSETFROM:+0200
TZOFFSETTO:+0100
TZNAME:CET
DTSTART:20221030T010000
END:STANDARD
END:VTIMEZONE
BEGIN:VEVENT
DTSTART;TZID=Europe/Paris:20220701T180000
DTEND;TZID=Europe/Paris:20220703T200000
DTSTAMP:20260421T192930
CREATED:20220419T131032Z
LAST-MODIFIED:20220420T065819Z
UID:12328-1656698400-1656878400@www.vauvert.com
SUMMARY:Festival Jazz à Vauvert 2022
DESCRIPTION:Une nouvelle édition du Festival Jazz à Vauvert du 1er au 3 juillet 2022 au Castellas\, où résonneront des accords de jazz pendant 3 jours\, dont le dimanche entièrement gratuit ! \nLe festival\, ouvert à toutes les générations\, vivra aux rythmes d’animations tout le week-end (programme ici).\nDe la danse hip hop avec Urban Art\, des ateliers jeux\, peinture et couture avec les centres social et culturel Rives et Robert Gourdon de Vauvert\, du cirque avec Les Fortiches de Sommières mais également des lectures musicales jeunes public\, des fanfares et bien sûr du jazz. Et quel jazz ! \nLe grand Jan Garbarek\, légende vivante du Jazz\, sera présent le vendredi pour une soirée événement. \nLe lendemain place à une soirée ouverte sur Cuba avec la mise en avant d’un artiste de la région Raphaël Lemonnier et un trio 100% cubain mené par le talentueux Roberto Fonseca. \nDurant ces trois jours\, le cœur de Vauvert ne sera pas oublié avec des concerts le vendredi à 18h et le samedi à 10h avec des groupes ou fanfares qui joueront sur la place des Halles et dans différents endroits de la ville. \nVenez découvrir tous les concerts et toutes les activités d’un week-end de plaisirs à Vauvert ! \n\nBilletterie \nTarifs : (Hors frais de location)\n– Tarif unique par soirée…………… 30€\n– Pass 2 soirs…………………………….50€\n– Moins de 16 ans…………………….. gratuit\n– Tarif spécial Ecole de Musique de Petite Camargue : 20€ par soir et 30€ Pass 2 jours\nRenseignements et ventes au 04 66 80 30 27 et sur le site : www.jazzajunas.fr et aussi à l’Office du Tourisme de Vauvert. \n\n \nVoir le dépliant (format PDF)
URL:https://www.vauvert.com/agenda/festival-jazz-a-vauvert-2022/
LOCATION:parc du Castellas\, vauvert\, 30600\, France
ATTACH;FMTTYPE=image/jpeg:https://www.vauvert.com/wp-content/uploads/2022/04/affichevauvert.jpg
END:VEVENT
END:VCALENDAR