BEGIN:VCALENDAR
VERSION:2.0
PRODID:-//Ville de Vauvert - ECPv5.14.2.1//NONSGML v1.0//EN
CALSCALE:GREGORIAN
METHOD:PUBLISH
X-WR-CALNAME:Ville de Vauvert
X-ORIGINAL-URL:https://www.vauvert.com
X-WR-CALDESC:évènements pour Ville de Vauvert
BEGIN:VTIMEZONE
TZID:Europe/Paris
BEGIN:DAYLIGHT
TZOFFSETFROM:+0100
TZOFFSETTO:+0200
TZNAME:CEST
DTSTART:20200329T010000
END:DAYLIGHT
BEGIN:STANDARD
TZOFFSETFROM:+0200
TZOFFSETTO:+0100
TZNAME:CET
DTSTART:20201025T010000
END:STANDARD
END:VTIMEZONE
BEGIN:VEVENT
DTSTART;TZID=Europe/Paris:20200802T193000
DTEND;TZID=Europe/Paris:20200802T233000
DTSTAMP:20260419T185019
CREATED:20200703T143308Z
LAST-MODIFIED:20200703T143308Z
UID:6208-1596396600-1596411000@www.vauvert.com
SUMMARY:Festival film & compagnie : séance 3/4
DESCRIPTION:arènes de Gallician – gratuit\nSpectacle : Timbrement vôtre\, Cie Easy to digest\nà 19h30 – Tout public \nDans un bureau de poste qui prend la poussière\, deux employés se démènent pour redonner le goût d’écrire.\nDes colis à n’en plus finir\, une relève de courrier assez sportive\, des mots lâchés\, mâchés\, rabâchés\, qui parlent de soi\, de nous… 45minutes de rigolade ! \nhttps://www.labassecour.com/timbrementvotre \nEntre le spectacle et le film\npique-nique tiré du sac pour ceux qui le souhaitent \nFilm : Le voyage du Dr Dolittle\nFilm tout public à partir de 8 ans\nVers 21h30\, à la nuit tombée \nAprès la perte de sa femme sept ans plus tôt\, l’excentrique Dr. John Dolittle\, célèbre docteur et vétérinaire de l’Angleterre de la Reine Victoria s’isole derrière les murs de son manoir\, avec pour seule compagnie sa ménagerie d’animaux exotiques.\nUn voyage initiatique entre humour et fantastique. \nVous pouvez apporter chaises pliantes\, chaises longues\, coussins\, couvertures… Des chaises seront également à votre disposition sur place.\nRespect des mesures sanitaires en vigueur. Nombre de places limité. Réservation souhaitable. \n  \n\nPlus d’infos\nLe festival film et compagnie est organisé par la direction de la culture de la ville de Vauvert en partenariat avec Cinéplan et cofinancé par le Département du Gard. \n Cliquez pour agrandir – PDF imprimable (A4 rv) : ici \nRenseignements :\nDirection de la culture\nMédiathèque\nPlace Dr Arnoux\n30600 Vauvert\nTél. : 04 66 73 17 30\nculture@vauvert.com \nInformations Covid-19\nRespect des mesures sanitaires en vigueur.\nNombre de places limité.\nRéservation souhaitable. \n  \nLe programme est aussi disponible sur la page Facebook officielle de la ville de Vauvert et dans l’événement associé. \nProgramme sous réserve de modifications.
URL:https://www.vauvert.com/agenda/festival-film-compagnie-seance-3-4/
LOCATION:arènes de Gallician\, Vauvert\, 30600\, France
ATTACH;FMTTYPE=image/jpeg:https://www.vauvert.com/wp-content/uploads/2020/07/affi-festival-film-et-compagnie-2020-web.jpg
END:VEVENT
END:VCALENDAR