BEGIN:VCALENDAR
VERSION:2.0
PRODID:-//Ville de Vauvert - ECPv5.14.2.1//NONSGML v1.0//EN
CALSCALE:GREGORIAN
METHOD:PUBLISH
X-WR-CALNAME:Ville de Vauvert
X-ORIGINAL-URL:https://www.vauvert.com
X-WR-CALDESC:évènements pour Ville de Vauvert
BEGIN:VTIMEZONE
TZID:Europe/Paris
BEGIN:DAYLIGHT
TZOFFSETFROM:+0100
TZOFFSETTO:+0200
TZNAME:CEST
DTSTART:20190331T010000
END:DAYLIGHT
BEGIN:STANDARD
TZOFFSETFROM:+0200
TZOFFSETTO:+0100
TZNAME:CET
DTSTART:20191027T010000
END:STANDARD
END:VTIMEZONE
BEGIN:VEVENT
DTSTART;TZID=Europe/Paris:20191129T203000
DTEND;TZID=Europe/Paris:20191130T223000
DTSTAMP:20260419T155204
CREATED:20190903T140753Z
LAST-MODIFIED:20191115T141233Z
UID:1657-1575059400-1575153000@www.vauvert.com
SUMMARY:Festival 1001 contes en vallée verte
DESCRIPTION:Soirées contes Vauvert 29 et 30 novembre 2019 \nLa médiathèque Simone Veil invite petits et grands aux deux soirées contes organisées dans le cadre du Festival 1001 contes en vallée verte\, le vendredi 29 novembre et le samedi 30 novembre à 20h30. \nDes conteurs viendront présenter deux superbes histoires mêlant humour\, amour\, sagesse et traditions. Un moment convivial de découverte culturelle\, à partager en famille à Vauvert\, salle Bizet ! \nEntrée gratuite sur réservation obligatoire au 04 66 731 730. \n  \nCliquez pour agrandir
URL:https://www.vauvert.com/agenda/festival-1001-contes-en-vallee-verte/
LOCATION:Salle Georges Bizet\, 365-357 Rue Louise Désir\, Vauvert\, Gard\, 30600\, France
ATTACH;FMTTYPE=image/jpeg:https://www.vauvert.com/wp-content/uploads/2019/09/affi-1001contes-2019-web.jpg
END:VEVENT
END:VCALENDAR