BEGIN:VCALENDAR
VERSION:2.0
PRODID:-//Ville de Vauvert - ECPv5.14.2.1//NONSGML v1.0//EN
CALSCALE:GREGORIAN
METHOD:PUBLISH
X-WR-CALNAME:Ville de Vauvert
X-ORIGINAL-URL:https://www.vauvert.com
X-WR-CALDESC:évènements pour Ville de Vauvert
BEGIN:VTIMEZONE
TZID:Europe/Paris
BEGIN:DAYLIGHT
TZOFFSETFROM:+0100
TZOFFSETTO:+0200
TZNAME:CEST
DTSTART:20200329T010000
END:DAYLIGHT
BEGIN:STANDARD
TZOFFSETFROM:+0200
TZOFFSETTO:+0100
TZNAME:CET
DTSTART:20201025T010000
END:STANDARD
END:VTIMEZONE
BEGIN:VEVENT
DTSTART;TZID=Europe/Paris:20200207T140000
DTEND;TZID=Europe/Paris:20200307T183000
DTSTAMP:20260419T155144
CREATED:20200129T075921Z
LAST-MODIFIED:20200129T080310Z
UID:3538-1581084000-1583605800@www.vauvert.com
SUMMARY:Exposition Estampes - Caroline Garcia et MC Beguet
DESCRIPTION:Exposition Estampes à l’espace culture Jean Jaurès du 7 février au 7 mars 2020\n \nCaroline Garcia et MC Beguet sont artistes et œuvrent dans le monde de la gravure.\nElles sont présidente et vice-présidente de SUDestampe\, dont l’ambition est de donner à voir la gravure autrement\, dans sa richesse et sa variété\, plus en rapport avec notre époque. \nMC Beguet\n« Sensible à la ligne dans le paysage urbain ou naturel\, je n’en garde que la mémoire. Mémoire sélective qui réorganise selon l’humeur du jour. Ne subsistent que des sensations\, lignes tracées à la main\, surfaces qui envahissent le fond\, se recoupent\, ou laissent des zones de repos.» \nCaroline Garcia\n« Graver\, imprimer\, c’est laisser une trace\, une empreinte\, c’est partager une « impression »\, un sentiment ou une sensation.\nVariations sur des motifs inspirés de la nature\, mes gravures tendent à fonctionner à la manière d’haïkus en littérature : essayer de traduire avec simplicité et justesse le temps d’un instant et l’évanescence des choses. Depuis plusieurs années mon travail s’intéresse à l’eau que ce soit celle tumultueuse de la Loire de mon enfance\, celle brumeuse des nuages ou celle saumâtre des marais mais si l’eau est ma source d’inspiration l’objet de mon travail est bien la relation entre le Vide et le Plein. » \nLe vernissage aura lieu vendredi 7 février à 19h. \n  \n \n  \nCliquez-ici pour afficher le tract en plus grand et consulter les horaires d’ouverture de l’exposition. \n \n  \n  \n  \n  \n  \n  \n 
URL:https://www.vauvert.com/agenda/exposition-estampes-garcia-beguet/
LOCATION:Espace Culture Jean jaurès\, Place du Docteur Arnoux\, Vauvert\, Gard\, 30600
ATTACH;FMTTYPE=image/jpeg:https://www.vauvert.com/wp-content/uploads/2020/01/affiche-expo-estampe-2020.jpg
END:VEVENT
END:VCALENDAR