BEGIN:VCALENDAR
VERSION:2.0
PRODID:-//Ville de Vauvert - ECPv5.14.2.1//NONSGML v1.0//EN
CALSCALE:GREGORIAN
METHOD:PUBLISH
X-WR-CALNAME:Ville de Vauvert
X-ORIGINAL-URL:https://www.vauvert.com
X-WR-CALDESC:évènements pour Ville de Vauvert
BEGIN:VTIMEZONE
TZID:Europe/Paris
BEGIN:DAYLIGHT
TZOFFSETFROM:+0100
TZOFFSETTO:+0200
TZNAME:CEST
DTSTART:20190331T010000
END:DAYLIGHT
BEGIN:STANDARD
TZOFFSETFROM:+0200
TZOFFSETTO:+0100
TZNAME:CET
DTSTART:20191027T010000
END:STANDARD
END:VTIMEZONE
BEGIN:VEVENT
DTSTART;TZID=Europe/Paris:20191004T190000
DTEND;TZID=Europe/Paris:20191028T210000
DTSTAMP:20260420T095718
CREATED:20190903T122604Z
LAST-MODIFIED:20190903T122604Z
UID:1615-1570215600-1572296400@www.vauvert.com
SUMMARY:Exposition de peintures de l’association Palette de couleurs
DESCRIPTION:Exposition de peintures de l’association Palette de couleurs\, port de plaisance de Gallician\, vernissage vendredi 4 octobre à 19h
URL:https://www.vauvert.com/agenda/exposition-de-peintures-de-lassociation-palette-de-couleurs/
LOCATION:Port de plaisance Gallician\, 400 Route des Étangs\, Vauvert\, Gard\, 30600\, France
END:VEVENT
END:VCALENDAR