BEGIN:VCALENDAR
VERSION:2.0
PRODID:-//Ville de Vauvert - ECPv5.14.2.1//NONSGML v1.0//EN
CALSCALE:GREGORIAN
METHOD:PUBLISH
X-WR-CALNAME:Ville de Vauvert
X-ORIGINAL-URL:https://www.vauvert.com
X-WR-CALDESC:évènements pour Ville de Vauvert
BEGIN:VTIMEZONE
TZID:Europe/Paris
BEGIN:DAYLIGHT
TZOFFSETFROM:+0100
TZOFFSETTO:+0200
TZNAME:CEST
DTSTART:20190331T010000
END:DAYLIGHT
BEGIN:STANDARD
TZOFFSETFROM:+0200
TZOFFSETTO:+0100
TZNAME:CET
DTSTART:20191027T010000
END:STANDARD
END:VTIMEZONE
BEGIN:VEVENT
DTSTART;TZID=Europe/Paris:20191102T143000
DTEND;TZID=Europe/Paris:20191102T170000
DTSTAMP:20260419T172956
CREATED:20191024T132724Z
LAST-MODIFIED:20191024T132724Z
UID:2090-1572705000-1572714000@www.vauvert.com
SUMMARY:Course de ligue
DESCRIPTION:Organisé par la commission des festivités
URL:https://www.vauvert.com/agenda/coursedeligue2nov2019/
LOCATION:Arènes Jean Brunel\, 1 Place Paul Allier\, Vauvert\, Gard\, 30600
END:VEVENT
END:VCALENDAR