BEGIN:VCALENDAR
VERSION:2.0
PRODID:-//Ville de Vauvert - ECPv5.14.2.1//NONSGML v1.0//EN
CALSCALE:GREGORIAN
METHOD:PUBLISH
X-WR-CALNAME:Ville de Vauvert
X-ORIGINAL-URL:https://www.vauvert.com
X-WR-CALDESC:évènements pour Ville de Vauvert
BEGIN:VTIMEZONE
TZID:Europe/Paris
BEGIN:DAYLIGHT
TZOFFSETFROM:+0100
TZOFFSETTO:+0200
TZNAME:CEST
DTSTART:20200329T010000
END:DAYLIGHT
BEGIN:STANDARD
TZOFFSETFROM:+0200
TZOFFSETTO:+0100
TZNAME:CET
DTSTART:20201025T010000
END:STANDARD
END:VTIMEZONE
BEGIN:VEVENT
DTSTART;TZID=Europe/Paris:20200307T150000
DTEND;TZID=Europe/Paris:20200307T170000
DTSTAMP:20260420T030149
CREATED:20200214T143052Z
LAST-MODIFIED:20200305T133650Z
UID:3715-1583593200-1583600400@www.vauvert.com
SUMMARY:Reportée [Course taurine de solidarité]
DESCRIPTION:[Course reportée]\n  \nCarrousel de la Tour Magno Gardiano et capelado avec le groupe folklorique Pantai de Camargo. \nEn ouverture 2 taureaux emboulés des manade Félix et Briaux-Daumas rasetés par les écoles taurines de Petite Camargue\, Bouillargues\, Saint-Laurent d’Aigouze et Sommières. \n  \nBACAREN et GUERLIN de la manade Martini \nPINGO de la manade Félix \nNUAGE de la manade Briaux-Daumas \nHERMES de la manade Blatière-Bessac \nPICOLO de la manade Cuillé \nRaseteurs : Z. Katif\, J. Martin\, L. Auzolle\, M. Charnelet\, El Mahboub\, E. Assenat\, T. Charrade\, R. Fouque\, F. Ranc \n  \nEntrée : 9 € \nLes bénéfices de cette course seront reversés aux 3 communes (Générac\, Beauvoisin et Vauvert) au prorata des hectares incendiés sur chaque territoire. Les fonds récoltés auprès d’entreprises locales qui seront annoncées au micro lors de cette course\, seront reversés à l’association des pupilles des pompiers. \nVoir l’affiche en plus grand :\n \n 
URL:https://www.vauvert.com/agenda/course-taurine-de-solidarite/
LOCATION:Arènes Jean Brunel\, 1 Place Paul Allier\, Vauvert\, Gard\, 30600
ATTACH;FMTTYPE=image/jpeg:https://www.vauvert.com/wp-content/uploads/2020/02/affiche-reportee-course-bienfaisance-7mars2020-web-.jpg
END:VEVENT
END:VCALENDAR