BEGIN:VCALENDAR
VERSION:2.0
PRODID:-//Ville de Vauvert - ECPv5.14.2.1//NONSGML v1.0//EN
CALSCALE:GREGORIAN
METHOD:PUBLISH
X-WR-CALNAME:Ville de Vauvert
X-ORIGINAL-URL:https://www.vauvert.com
X-WR-CALDESC:évènements pour Ville de Vauvert
BEGIN:VTIMEZONE
TZID:Europe/Paris
BEGIN:DAYLIGHT
TZOFFSETFROM:+0100
TZOFFSETTO:+0200
TZNAME:CEST
DTSTART:20240331T010000
END:DAYLIGHT
BEGIN:STANDARD
TZOFFSETFROM:+0200
TZOFFSETTO:+0100
TZNAME:CET
DTSTART:20241027T010000
END:STANDARD
END:VTIMEZONE
BEGIN:VEVENT
DTSTART;TZID=Europe/Paris:20240509T100000
DTEND;TZID=Europe/Paris:20240509T230000
DTSTAMP:20260420T182857
CREATED:20240425T080825Z
LAST-MODIFIED:20240425T080825Z
UID:23514-1715248800-1715295600@www.vauvert.com
SUMMARY:Concours d'abrivado
DESCRIPTION:La ville vous invite au 37ème concours d’abrivado\, 5ème souvenir Pierre Aubanel\, le jeudi 9 mai 2024 dès 10h.\nToutes les informations ci-dessous :
URL:https://www.vauvert.com/agenda/concours-abrivado-2024/
LOCATION:allées Victor Hugo\, 30600 Vauvert\, 56 avenue Victor Hugo\, Vauvert\, 30600\, France
ATTACH;FMTTYPE=image/jpeg:https://www.vauvert.com/wp-content/uploads/2024/04/affi-a2-concours-abrivades-2024-web.jpg
END:VEVENT
END:VCALENDAR