BEGIN:VCALENDAR
VERSION:2.0
PRODID:-//Ville de Vauvert - ECPv5.14.2.1//NONSGML v1.0//EN
CALSCALE:GREGORIAN
METHOD:PUBLISH
X-WR-CALNAME:Ville de Vauvert
X-ORIGINAL-URL:https://www.vauvert.com
X-WR-CALDESC:évènements pour Ville de Vauvert
BEGIN:VTIMEZONE
TZID:Europe/Paris
BEGIN:DAYLIGHT
TZOFFSETFROM:+0100
TZOFFSETTO:+0200
TZNAME:CEST
DTSTART:20240331T010000
END:DAYLIGHT
BEGIN:STANDARD
TZOFFSETFROM:+0200
TZOFFSETTO:+0100
TZNAME:CET
DTSTART:20241027T010000
END:STANDARD
END:VTIMEZONE
BEGIN:VEVENT
DTSTART;TZID=Europe/Paris:20240226T080000
DTEND;TZID=Europe/Paris:20240329T223000
DTSTAMP:20260422T001211
CREATED:20240123T161822Z
LAST-MODIFIED:20240403T090032Z
UID:21552-1708934400-1711751400@www.vauvert.com
SUMMARY:Inscription : balade à Calvisson et Sommières pour nos aînés
DESCRIPTION:Le CCAS propose aux aînés de la ville une balade à Calvisson et Sommières le vendredi 29 mars. Sortie à la journée pour les aînés vauverdois de plus de 65 ans. \nInscription à partir du 26 février au CCAS au 04 66 73 17 80\, ccas@vauvert.com\, 168 rue Montcalm à Vauvert. Tarif de 40€ repas compris. \nAu programme : visite guidée du musée du Boutis à Calvisson et du centre historique de Sommières\, sans oublier le repas au restaurant. \nDépart à 9h30 aux arrêts Pompidou\, Gare\, Aficion. \n 
URL:https://www.vauvert.com/agenda/balade-calvisson-sommieres-pour-nos-aines/
LOCATION:Vauvert\, France
ATTACH;FMTTYPE=image/jpeg:https://www.vauvert.com/wp-content/uploads/2024/01/affi-a3-ccas-gouter-sortie-voyage-2024-2.jpg
ORGANIZER;CN="Centre%20communal%20d%27action%20sociale%20%28CCAS%29":MAILTO:ccas@vauvert.com
END:VEVENT
END:VCALENDAR