BEGIN:VCALENDAR
VERSION:2.0
PRODID:-//Ville de Vauvert - ECPv5.14.2.1//NONSGML v1.0//EN
CALSCALE:GREGORIAN
METHOD:PUBLISH
X-WR-CALNAME:Ville de Vauvert
X-ORIGINAL-URL:https://www.vauvert.com
X-WR-CALDESC:évènements pour Ville de Vauvert
BEGIN:VTIMEZONE
TZID:Europe/Paris
BEGIN:DAYLIGHT
TZOFFSETFROM:+0100
TZOFFSETTO:+0200
TZNAME:CEST
DTSTART:20200329T010000
END:DAYLIGHT
BEGIN:STANDARD
TZOFFSETFROM:+0200
TZOFFSETTO:+0100
TZNAME:CET
DTSTART:20201025T010000
END:STANDARD
END:VTIMEZONE
BEGIN:VEVENT
DTSTART;VALUE=DATE:20201109
DTEND;VALUE=DATE:20201110
DTSTAMP:20260419T142156
CREATED:20201109T111951Z
LAST-MODIFIED:20201109T111951Z
UID:7157-1604880000-1604966399@www.vauvert.com
SUMMARY:11 novembre : devoir de mémoire\, un drapeau sur chaque maison
DESCRIPTION:DEVOIR DE MÉMOIRE \nLa ville de Vauvert célébrera le 11 novembre pour commémorer la signature de l’armistice de 1918.\n En raison du confinement\, la cérémonie se tiendra en comité restreint sans public mais en présence des représentants des anciens combattants\, des autorités civiles\, militaires et religieuses aux monuments aux morts.\n Habituellement\, vous êtes nombreux à vous associer à cette manifestation\, élèves des écoles de Vauvert\, du collège\, membres de l’orchestre de l’école de musique de Petite Camargue\, représentants associatifs\, Vauverdoises et Vauverdois. Pour faire vivre ce devoir de mémoire dans ces conditions particulières\, nous vous invitons à pavoiser vos fenêtres aux couleurs de la République !
URL:https://www.vauvert.com/agenda/11-novembre-devoir-de-memoire-un-drapeau-sur-chaque-maison/
END:VEVENT
END:VCALENDAR